BEGIN:VCALENDAR
VERSION:2.0
PRODID:-//SMSC Health and Wellness | Wellness Made Easy - ECPv6.15.13//NONSGML v1.0//EN
CALSCALE:GREGORIAN
METHOD:PUBLISH
X-ORIGINAL-URL:https://www.wellness.dev.smscmarketing.org
X-WR-CALDESC:Events for SMSC Health and Wellness | Wellness Made Easy
REFRESH-INTERVAL;VALUE=DURATION:PT1H
X-Robots-Tag:noindex
X-PUBLISHED-TTL:PT1H
BEGIN:VTIMEZONE
TZID:America/Chicago
BEGIN:DAYLIGHT
TZOFFSETFROM:-0600
TZOFFSETTO:-0500
TZNAME:CDT
DTSTART:20220313T080000
END:DAYLIGHT
BEGIN:STANDARD
TZOFFSETFROM:-0500
TZOFFSETTO:-0600
TZNAME:CST
DTSTART:20221106T070000
END:STANDARD
BEGIN:DAYLIGHT
TZOFFSETFROM:-0600
TZOFFSETTO:-0500
TZNAME:CDT
DTSTART:20230312T080000
END:DAYLIGHT
BEGIN:STANDARD
TZOFFSETFROM:-0500
TZOFFSETTO:-0600
TZNAME:CST
DTSTART:20231105T070000
END:STANDARD
BEGIN:DAYLIGHT
TZOFFSETFROM:-0600
TZOFFSETTO:-0500
TZNAME:CDT
DTSTART:20240310T080000
END:DAYLIGHT
BEGIN:STANDARD
TZOFFSETFROM:-0500
TZOFFSETTO:-0600
TZNAME:CST
DTSTART:20241103T070000
END:STANDARD
END:VTIMEZONE
BEGIN:VEVENT
DTSTART;TZID=America/Chicago:20230717T114500
DTEND;TZID=America/Chicago:20230717T123000
DTSTAMP:20260421T143156
CREATED:20230620T154200Z
LAST-MODIFIED:20230620T154200Z
UID:10002334-1689594300-1689597000@www.wellness.dev.smscmarketing.org
SUMMARY:Crock Pot Mondays - Summer Harvest Ratatouille
DESCRIPTION:Crock Pot Mondays – Summer Harvest Ratatouille (Vegan\, Gluten-Free)\nMeal kits will be preassembled. No need to bring your slow cooker. Registration fee is $15. Please RSVP by the Monday prior to the event.
URL:https://www.wellness.dev.smscmarketing.org/event/crock-pot-mondays-summer-harvest-ratatouille-3/
LOCATION:Community Center (Tipi)\, 2330 Sioux Trail NW\, Prior Lake\, MN\, 55372\, United States
CATEGORIES:Crock Pot Mondays
GEO:44.7362437;-93.4730448
X-APPLE-STRUCTURED-LOCATION;VALUE=URI;X-ADDRESS=Community Center (Tipi) 2330 Sioux Trail NW Prior Lake MN 55372 United States;X-APPLE-RADIUS=500;X-TITLE=2330 Sioux Trail NW:geo:-93.4730448,44.7362437
END:VEVENT
BEGIN:VEVENT
DTSTART;TZID=America/Chicago:20230714T070000
DTEND;TZID=America/Chicago:20230714T100000
DTSTAMP:20260421T143156
CREATED:20230620T155533Z
LAST-MODIFIED:20230620T155717Z
UID:10002339-1689318000-1689328800@www.wellness.dev.smscmarketing.org
SUMMARY:Mobile Hearing Screenings
DESCRIPTION:Tribal Public Health’s mobile hearing booth will be parked outside the Mystic Lake Team Member Entrance to provide hearing screenings for those who are interested. Screenings take about 15 minutes. \nCall Tribal Public Health at 952.496.6199 to schedule an appointment. Walk-ins are also welcome.
URL:https://www.wellness.dev.smscmarketing.org/event/mobile-hearing-screenings-4/
LOCATION:Mystic Lake Team Member Entrance
CATEGORIES:Teal
END:VEVENT
BEGIN:VEVENT
DTSTART;TZID=America/Chicago:20230713T163000
DTEND;TZID=America/Chicago:20230713T171500
DTSTAMP:20260421T143156
CREATED:20230620T153847Z
LAST-MODIFIED:20230620T154007Z
UID:10002333-1689265800-1689268500@www.wellness.dev.smscmarketing.org
SUMMARY:Meals Made Easy - Mediterranean Chicken Salad
DESCRIPTION:Meals Made Easy – Mediterranean Chicken Salad (Gluten-Free)\nSimply sign up\, pay $20\, and pick up your meal. Each meal feeds a family of four and features all-natural ingredients from Wozupi Tribal Gardens and Mazopiya.
URL:https://www.wellness.dev.smscmarketing.org/event/meals-made-easy-mediterranean-chicken-salad-pw-2/
LOCATION:Playworks Front Desk\, 2200 Trail of Dreams\, Prior Lake\, MN\, 55372\, United States
CATEGORIES:Meals Made Easy
GEO:44.725166;-93.477036
X-APPLE-STRUCTURED-LOCATION;VALUE=URI;X-ADDRESS=Playworks Front Desk 2200 Trail of Dreams Prior Lake MN 55372 United States;X-APPLE-RADIUS=500;X-TITLE=2200 Trail of Dreams:geo:-93.477036,44.725166
END:VEVENT
BEGIN:VEVENT
DTSTART;TZID=America/Chicago:20230713T163000
DTEND;TZID=America/Chicago:20230713T171500
DTSTAMP:20260421T143156
CREATED:20230620T153843Z
LAST-MODIFIED:20230620T153843Z
UID:10002332-1689265800-1689268500@www.wellness.dev.smscmarketing.org
SUMMARY:Meals Made Easy - Mediterranean Chicken Salad
DESCRIPTION:Meals Made Easy – Mediterranean Chicken Salad (Gluten-Free)\nSimply sign up\, pay $20\, and pick up your meal. Each meal feeds a family of four and features all-natural ingredients from Wozupi Tribal Gardens and Mazopiya.
URL:https://www.wellness.dev.smscmarketing.org/event/meals-made-easy-mediterranean-chicken-salad-3/
LOCATION:Community Center (Tipi)\, 2330 Sioux Trail NW\, Prior Lake\, MN\, 55372\, United States
CATEGORIES:Meals Made Easy
GEO:44.7362437;-93.4730448
X-APPLE-STRUCTURED-LOCATION;VALUE=URI;X-ADDRESS=Community Center (Tipi) 2330 Sioux Trail NW Prior Lake MN 55372 United States;X-APPLE-RADIUS=500;X-TITLE=2330 Sioux Trail NW:geo:-93.4730448,44.7362437
END:VEVENT
BEGIN:VEVENT
DTSTART;TZID=America/Chicago:20230713T140000
DTEND;TZID=America/Chicago:20230713T170000
DTSTAMP:20260421T143156
CREATED:20230620T155428Z
LAST-MODIFIED:20230620T155530Z
UID:10002338-1689256800-1689267600@www.wellness.dev.smscmarketing.org
SUMMARY:Mobile Hearing Screenings
DESCRIPTION:Tribal Public Health’s mobile hearing booth will be parked outside the Mystic Lake Team Member Entrance to provide hearing screenings for those who are interested. Screenings take about 15 minutes. \nCall Tribal Public Health at 952.496.6199 to schedule an appointment. Walk-ins are also welcome.
URL:https://www.wellness.dev.smscmarketing.org/event/mobile-hearing-screenings-3/
LOCATION:Mystic Lake Team Member Entrance
CATEGORIES:Teal
END:VEVENT
BEGIN:VEVENT
DTSTART;TZID=America/Chicago:20230711T073000
DTEND;TZID=America/Chicago:20230711T083000
DTSTAMP:20260421T143156
CREATED:20230620T151200Z
LAST-MODIFIED:20230704T134019Z
UID:10002322-1689060600-1689064200@www.wellness.dev.smscmarketing.org
SUMMARY:Free Pop-Up Clinic
DESCRIPTION:SMSC Wellness staff will lead you through a basic balance and flexibility assessment. \nThis event will also include a Wondr Health webinar – “Turn Self-Criticism into Self-Compassion”.
URL:https://www.wellness.dev.smscmarketing.org/event/free-pop-up-clinic-2/
LOCATION:Mystic Quiet Space
CATEGORIES:Teal
END:VEVENT
BEGIN:VEVENT
DTSTART;TZID=America/Chicago:20230706T113000
DTEND;TZID=America/Chicago:20230706T133000
DTSTAMP:20260421T143156
CREATED:20230620T151152Z
LAST-MODIFIED:20230704T133958Z
UID:10002321-1688643000-1688650200@www.wellness.dev.smscmarketing.org
SUMMARY:Free Pop-Up Clinic
DESCRIPTION:SMSC Wellness staff will lead you through a basic balance and flexibility assessment.
URL:https://www.wellness.dev.smscmarketing.org/event/free-pop-up-clinic/
LOCATION:Mystic Quiet Space
CATEGORIES:Teal
END:VEVENT
BEGIN:VEVENT
DTSTART;TZID=America/Chicago:20230626T114500
DTEND;TZID=America/Chicago:20230626T123000
DTSTAMP:20260421T143156
CREATED:20230523T133643Z
LAST-MODIFIED:20230523T133729Z
UID:10002320-1687779900-1687782600@www.wellness.dev.smscmarketing.org
SUMMARY:Crock Pot Mondays - Barbecue Pork and Peaches
DESCRIPTION:Crock Pot Mondays – Barbecue Pork and Peaches\nMeal kits will be preassembled. No need to bring your slow cooker. Registration fee is $15. Please RSVP by the Monday prior to the event.
URL:https://www.wellness.dev.smscmarketing.org/event/crock-pot-mondays-barbecue-pork-and-peaches-pw/
LOCATION:Playworks Front Desk\, 2200 Trail of Dreams\, Prior Lake\, MN\, 55372\, United States
CATEGORIES:Crock Pot Mondays
GEO:44.725166;-93.477036
X-APPLE-STRUCTURED-LOCATION;VALUE=URI;X-ADDRESS=Playworks Front Desk 2200 Trail of Dreams Prior Lake MN 55372 United States;X-APPLE-RADIUS=500;X-TITLE=2200 Trail of Dreams:geo:-93.477036,44.725166
END:VEVENT
BEGIN:VEVENT
DTSTART;TZID=America/Chicago:20230626T114500
DTEND;TZID=America/Chicago:20230626T123000
DTSTAMP:20260421T143156
CREATED:20230523T133334Z
LAST-MODIFIED:20230523T133639Z
UID:10002319-1687779900-1687782600@www.wellness.dev.smscmarketing.org
SUMMARY:Crock Pot Mondays - Barbecue Pork and Peaches
DESCRIPTION:Crock Pot Mondays – Barbecue Pork and Peaches\nMeal kits will be preassembled. No need to bring your slow cooker. Registration fee is $15. Please RSVP by the Monday prior to the event.
URL:https://www.wellness.dev.smscmarketing.org/event/crock-pot-mondays-barbecue-pork-and-peaches-cc/
LOCATION:Community Center (Tipi)\, 2330 Sioux Trail NW\, Prior Lake\, MN\, 55372\, United States
CATEGORIES:Crock Pot Mondays
GEO:44.7362437;-93.4730448
X-APPLE-STRUCTURED-LOCATION;VALUE=URI;X-ADDRESS=Community Center (Tipi) 2330 Sioux Trail NW Prior Lake MN 55372 United States;X-APPLE-RADIUS=500;X-TITLE=2330 Sioux Trail NW:geo:-93.4730448,44.7362437
END:VEVENT
BEGIN:VEVENT
DTSTART;TZID=America/Chicago:20230622T140000
DTEND;TZID=America/Chicago:20230622T170000
DTSTAMP:20260421T143156
CREATED:20230620T155354Z
LAST-MODIFIED:20230620T155425Z
UID:10002337-1687442400-1687453200@www.wellness.dev.smscmarketing.org
SUMMARY:Mobile Hearing Screenings
DESCRIPTION:Tribal Public Health’s mobile hearing booth will be parked outside Tribal Public Health to provide hearing screenings for those who are interested. Screenings take about 15 minutes. \nCall Tribal Public Health at 952.496.6199 to schedule an appointment. Walk-ins are also welcome.
URL:https://www.wellness.dev.smscmarketing.org/event/mobile-hearing-screenings-2/
LOCATION:Tribal Public Health
CATEGORIES:Teal
END:VEVENT
BEGIN:VEVENT
DTSTART;TZID=America/Chicago:20230621T150000
DTEND;TZID=America/Chicago:20230621T190000
DTSTAMP:20260421T143156
CREATED:20230620T155351Z
LAST-MODIFIED:20230620T155351Z
UID:10002336-1687359600-1687374000@www.wellness.dev.smscmarketing.org
SUMMARY:Mobile Hearing Screenings
DESCRIPTION:Tribal Public Health’s mobile hearing booth will be parked outside Tribal Public Health to provide hearing screenings for those who are interested. Screenings take about 15 minutes. \nCall Tribal Public Health at 952.496.6199 to schedule an appointment. Walk-ins are also welcome.
URL:https://www.wellness.dev.smscmarketing.org/event/mobile-hearing-screenings/
LOCATION:Tribal Public Health
CATEGORIES:Teal
END:VEVENT
BEGIN:VEVENT
DTSTART;TZID=America/Chicago:20230525T163000
DTEND;TZID=America/Chicago:20230525T171500
DTSTAMP:20260421T143156
CREATED:20230420T205945Z
LAST-MODIFIED:20230420T210025Z
UID:10002314-1685032200-1685034900@www.wellness.dev.smscmarketing.org
SUMMARY:Meals Made Easy - Grilled Pork Chops\, Cauliflower Gratin\, Haricots Verts
DESCRIPTION:Meals Made Easy – Grilled Pork Chops\, Cauliflower Gratin\, Haricots Verts (Gluten-Free\, Soy-Free)\nSimply sign up\, pay $20\, and pick up your meal. Each meal feeds a family of four and features all-natural ingredients from Wozupi Tribal Gardens and Mazopiya.
URL:https://www.wellness.dev.smscmarketing.org/event/meals-made-easy-grilled-pork-chops-cauliflower-gratin-haricots-verts-pw/
LOCATION:Playworks Front Desk\, 2200 Trail of Dreams\, Prior Lake\, MN\, 55372\, United States
CATEGORIES:Blue,Meals Made Easy
GEO:44.725166;-93.477036
X-APPLE-STRUCTURED-LOCATION;VALUE=URI;X-ADDRESS=Playworks Front Desk 2200 Trail of Dreams Prior Lake MN 55372 United States;X-APPLE-RADIUS=500;X-TITLE=2200 Trail of Dreams:geo:-93.477036,44.725166
END:VEVENT
BEGIN:VEVENT
DTSTART;TZID=America/Chicago:20230525T163000
DTEND;TZID=America/Chicago:20230525T171500
DTSTAMP:20260421T143156
CREATED:20230420T205755Z
LAST-MODIFIED:20230420T205941Z
UID:10002313-1685032200-1685034900@www.wellness.dev.smscmarketing.org
SUMMARY:Meals Made Easy - Grilled Pork Chops\, Cauliflower Gratin\, Haricots Verts
DESCRIPTION:Meals Made Easy – Grilled Pork Chops\, Cauliflower Gratin\, Haricots Verts (Gluten-Free\, Soy-Free)\nSimply sign up\, pay $20\, and pick up your meal. Each meal feeds a family of four and features all-natural ingredients from Wozupi Tribal Gardens and Mazopiya.
URL:https://www.wellness.dev.smscmarketing.org/event/meals-made-easy-grilled-pork-chops-cauliflower-gratin-haricots-verts-cc/
LOCATION:Community Center (Tipi)\, 2330 Sioux Trail NW\, Prior Lake\, MN\, 55372\, United States
CATEGORIES:Blue,Meals Made Easy
GEO:44.7362437;-93.4730448
X-APPLE-STRUCTURED-LOCATION;VALUE=URI;X-ADDRESS=Community Center (Tipi) 2330 Sioux Trail NW Prior Lake MN 55372 United States;X-APPLE-RADIUS=500;X-TITLE=2330 Sioux Trail NW:geo:-93.4730448,44.7362437
END:VEVENT
BEGIN:VEVENT
DTSTART;TZID=America/Chicago:20230524T120000
DTEND;TZID=America/Chicago:20230524T160000
DTSTAMP:20260421T143156
CREATED:20230428T174454Z
LAST-MODIFIED:20230428T174516Z
UID:10002318-1684929600-1684944000@www.wellness.dev.smscmarketing.org
SUMMARY:Pop-Up Vision Clinic
DESCRIPTION:Clinics include visual acuity screenings\, auto-refraction screenings\, take undilated photos of eyes\, and can refer patients to the SMSC Vision Clinic for a more thorough exam. The screenings take about 10 minutes per patient \nSMSC Vision Clinic
URL:https://www.wellness.dev.smscmarketing.org/event/pop-up-vision-clinic-4/
LOCATION:The Quiet Space Near the Mystic Lake Team Member Entrance
CATEGORIES:Purple
END:VEVENT
BEGIN:VEVENT
DTSTART;TZID=America/Chicago:20230515T114500
DTEND;TZID=America/Chicago:20230515T123000
DTSTAMP:20260421T143156
CREATED:20230420T204918Z
LAST-MODIFIED:20230420T204959Z
UID:10002249-1684151100-1684153800@www.wellness.dev.smscmarketing.org
SUMMARY:Crock Pot Mondays - Black-Eyed Pea Stew
DESCRIPTION:Crock Pot Mondays – Black-Eyed Pea Stew\nMeal kits will be preassembled. No need to bring your slow cooker. Registration fee is $15. Please RSVP by the Monday prior to the event.
URL:https://www.wellness.dev.smscmarketing.org/event/crock-pot-mondays-black-eyed-pea-stew-pw/
LOCATION:Playworks Front Desk\, 2200 Trail of Dreams\, Prior Lake\, MN\, 55372\, United States
CATEGORIES:Blue,Crock Pot Mondays
GEO:44.725166;-93.477036
X-APPLE-STRUCTURED-LOCATION;VALUE=URI;X-ADDRESS=Playworks Front Desk 2200 Trail of Dreams Prior Lake MN 55372 United States;X-APPLE-RADIUS=500;X-TITLE=2200 Trail of Dreams:geo:-93.477036,44.725166
END:VEVENT
BEGIN:VEVENT
DTSTART;TZID=America/Chicago:20230515T114500
DTEND;TZID=America/Chicago:20230515T123000
DTSTAMP:20260421T143156
CREATED:20230420T204744Z
LAST-MODIFIED:20230420T204914Z
UID:10002221-1684151100-1684153800@www.wellness.dev.smscmarketing.org
SUMMARY:Crock Pot Mondays - Black-Eyed Pea Stew
DESCRIPTION:Crock Pot Mondays – Black-Eyed Pea Stew\nMeal kits will be preassembled. No need to bring your slow cooker. Registration fee is $15. Please RSVP by the Monday prior to the event.
URL:https://www.wellness.dev.smscmarketing.org/event/crock-pot-mondays-black-eyed-pea-stew-cc/
LOCATION:Community Center (Tipi)\, 2330 Sioux Trail NW\, Prior Lake\, MN\, 55372\, United States
CATEGORIES:Blue,Crock Pot Mondays
GEO:44.7362437;-93.4730448
X-APPLE-STRUCTURED-LOCATION;VALUE=URI;X-ADDRESS=Community Center (Tipi) 2330 Sioux Trail NW Prior Lake MN 55372 United States;X-APPLE-RADIUS=500;X-TITLE=2330 Sioux Trail NW:geo:-93.4730448,44.7362437
END:VEVENT
BEGIN:VEVENT
DTSTART;TZID=America/Chicago:20230515T100000
DTEND;TZID=America/Chicago:20230515T140000
DTSTAMP:20260421T143156
CREATED:20230428T174425Z
LAST-MODIFIED:20230428T174447Z
UID:10002317-1684144800-1684159200@www.wellness.dev.smscmarketing.org
SUMMARY:Pop-Up Vision Clinic
DESCRIPTION:Clinics include visual acuity screenings\, auto-refraction screenings\, take undilated photos of eyes\, and can refer patients to the SMSC Vision Clinic for a more thorough exam. The screenings take about 10 minutes per patient \nSMSC Vision Clinic
URL:https://www.wellness.dev.smscmarketing.org/event/pop-up-vision-clinic-3/
LOCATION:The Quiet Space Near the Mystic Lake Team Member Entrance
CATEGORIES:Purple
END:VEVENT
BEGIN:VEVENT
DTSTART;TZID=America/Chicago:20230512T090000
DTEND;TZID=America/Chicago:20230512T130000
DTSTAMP:20260421T143156
CREATED:20230428T174322Z
LAST-MODIFIED:20230428T174348Z
UID:10002316-1683882000-1683896400@www.wellness.dev.smscmarketing.org
SUMMARY:Pop-Up Vision Clinic
DESCRIPTION:Clinics include visual acuity screenings\, auto-refraction screenings\, take undilated photos of eyes\, and can refer patients to the SMSC Vision Clinic for a more thorough exam. The screenings take about 10 minutes per patient \nSMSC Vision Clinic
URL:https://www.wellness.dev.smscmarketing.org/event/pop-up-vision-clinic-2/
LOCATION:The Quiet Space Near the Mystic Lake Team Member Entrance
CATEGORIES:Purple
END:VEVENT
BEGIN:VEVENT
DTSTART;TZID=America/Chicago:20230511T163000
DTEND;TZID=America/Chicago:20230511T171500
DTSTAMP:20260421T143156
CREATED:20230420T205658Z
LAST-MODIFIED:20230420T205744Z
UID:10002312-1683822600-1683825300@www.wellness.dev.smscmarketing.org
SUMMARY:Meals Made Easy - Chile Relleno Enchiladas
DESCRIPTION:Meals Made Easy – Chile Relleno Enchiladas\, Braised Black Beans\, Cilantro Lime Rice (Gluten-Free)\nSimply sign up\, pay $20\, and pick up your meal. Each meal feeds a family of four and features all-natural ingredients from Wozupi Tribal Gardens and Mazopiya.
URL:https://www.wellness.dev.smscmarketing.org/event/meals-made-easy-chile-relleno-enchiladas-pw/
LOCATION:Playworks Front Desk\, 2200 Trail of Dreams\, Prior Lake\, MN\, 55372\, United States
CATEGORIES:Blue,Meals Made Easy
GEO:44.725166;-93.477036
X-APPLE-STRUCTURED-LOCATION;VALUE=URI;X-ADDRESS=Playworks Front Desk 2200 Trail of Dreams Prior Lake MN 55372 United States;X-APPLE-RADIUS=500;X-TITLE=2200 Trail of Dreams:geo:-93.477036,44.725166
END:VEVENT
BEGIN:VEVENT
DTSTART;TZID=America/Chicago:20230511T163000
DTEND;TZID=America/Chicago:20230511T171500
DTSTAMP:20260421T143156
CREATED:20230420T205412Z
LAST-MODIFIED:20230420T205655Z
UID:10002311-1683822600-1683825300@www.wellness.dev.smscmarketing.org
SUMMARY:Meals Made Easy - Chile Relleno Enchiladas
DESCRIPTION:Meals Made Easy – Chile Relleno Enchiladas\, Braised Black Beans\, Cilantro Lime Rice (Gluten-Free)\nSimply sign up\, pay $20\, and pick up your meal. Each meal feeds a family of four and features all-natural ingredients from Wozupi Tribal Gardens and Mazopiya.
URL:https://www.wellness.dev.smscmarketing.org/event/meals-made-easy-chile-relleno-enchiladas-cc/
LOCATION:Community Center (Tipi)\, 2330 Sioux Trail NW\, Prior Lake\, MN\, 55372\, United States
CATEGORIES:Blue,Meals Made Easy
GEO:44.7362437;-93.4730448
X-APPLE-STRUCTURED-LOCATION;VALUE=URI;X-ADDRESS=Community Center (Tipi) 2330 Sioux Trail NW Prior Lake MN 55372 United States;X-APPLE-RADIUS=500;X-TITLE=2330 Sioux Trail NW:geo:-93.4730448,44.7362437
END:VEVENT
BEGIN:VEVENT
DTSTART;TZID=America/Chicago:20230508T114500
DTEND;TZID=America/Chicago:20230508T123000
DTSTAMP:20260421T143156
CREATED:20230420T204448Z
LAST-MODIFIED:20230420T205021Z
UID:10002220-1683546300-1683549000@www.wellness.dev.smscmarketing.org
SUMMARY:Crock Pot Mondays - Moroccan Chicken
DESCRIPTION:Crock Pot Mondays – Moroccan Chicken\nMeal kits will be preassembled. No need to bring your slow cooker. Registration fee is $15. Please RSVP by the Monday prior to the event.
URL:https://www.wellness.dev.smscmarketing.org/event/crock-pot-mondays-moroccan-chicken-pw/
LOCATION:Playworks Front Desk\, 2200 Trail of Dreams\, Prior Lake\, MN\, 55372\, United States
CATEGORIES:Blue,Crock Pot Mondays
GEO:44.725166;-93.477036
X-APPLE-STRUCTURED-LOCATION;VALUE=URI;X-ADDRESS=Playworks Front Desk 2200 Trail of Dreams Prior Lake MN 55372 United States;X-APPLE-RADIUS=500;X-TITLE=2200 Trail of Dreams:geo:-93.477036,44.725166
END:VEVENT
BEGIN:VEVENT
DTSTART;TZID=America/Chicago:20230508T114500
DTEND;TZID=America/Chicago:20230508T123000
DTSTAMP:20260421T143156
CREATED:20230420T204319Z
LAST-MODIFIED:20230420T204443Z
UID:10002217-1683546300-1683549000@www.wellness.dev.smscmarketing.org
SUMMARY:Crock Pot Mondays - Moroccan Chicken
DESCRIPTION:Crock Pot Mondays – Moroccan Chicken\nMeal kits will be preassembled. No need to bring your slow cooker. Registration fee is $15. Please RSVP by the Monday prior to the event.
URL:https://www.wellness.dev.smscmarketing.org/event/crock-pot-mondays-moroccan-chicken-cc/
LOCATION:Community Center (Tipi)\, 2330 Sioux Trail NW\, Prior Lake\, MN\, 55372\, United States
CATEGORIES:Blue,Crock Pot Mondays
GEO:44.7362437;-93.4730448
X-APPLE-STRUCTURED-LOCATION;VALUE=URI;X-ADDRESS=Community Center (Tipi) 2330 Sioux Trail NW Prior Lake MN 55372 United States;X-APPLE-RADIUS=500;X-TITLE=2330 Sioux Trail NW:geo:-93.4730448,44.7362437
END:VEVENT
BEGIN:VEVENT
DTSTART;TZID=America/Chicago:20230504T163000
DTEND;TZID=America/Chicago:20230504T171500
DTSTAMP:20260421T143156
CREATED:20230420T205316Z
LAST-MODIFIED:20230420T205406Z
UID:10002310-1683217800-1683220500@www.wellness.dev.smscmarketing.org
SUMMARY:Meals Made Easy - Chicken Waldorf Salad
DESCRIPTION:Meals Made Easy – Chicken Waldorf Salad (Gluten-Free)\nSimply sign up\, pay $20\, and pick up your meal. Each meal feeds a family of four and features all-natural ingredients from Wozupi Tribal Gardens and Mazopiya.
URL:https://www.wellness.dev.smscmarketing.org/event/meals-made-easy-chicken-waldorf-salad-pw/
LOCATION:Playworks Front Desk\, 2200 Trail of Dreams\, Prior Lake\, MN\, 55372\, United States
CATEGORIES:Blue,Meals Made Easy
GEO:44.725166;-93.477036
X-APPLE-STRUCTURED-LOCATION;VALUE=URI;X-ADDRESS=Playworks Front Desk 2200 Trail of Dreams Prior Lake MN 55372 United States;X-APPLE-RADIUS=500;X-TITLE=2200 Trail of Dreams:geo:-93.477036,44.725166
END:VEVENT
BEGIN:VEVENT
DTSTART;TZID=America/Chicago:20230504T163000
DTEND;TZID=America/Chicago:20230504T171500
DTSTAMP:20260421T143156
CREATED:20230420T205043Z
LAST-MODIFIED:20230420T205306Z
UID:10002250-1683217800-1683220500@www.wellness.dev.smscmarketing.org
SUMMARY:Meals Made Easy - Chicken Waldorf Salad
DESCRIPTION:Meals Made Easy – Chicken Waldorf Salad (Gluten-Free)\nSimply sign up\, pay $20\, and pick up your meal. Each meal feeds a family of four and features all-natural ingredients from Wozupi Tribal Gardens and Mazopiya.
URL:https://www.wellness.dev.smscmarketing.org/event/meals-made-easy-chicken-waldorf-salad-cc/
LOCATION:Community Center (Tipi)\, 2330 Sioux Trail NW\, Prior Lake\, MN\, 55372\, United States
CATEGORIES:Blue,Meals Made Easy
GEO:44.7362437;-93.4730448
X-APPLE-STRUCTURED-LOCATION;VALUE=URI;X-ADDRESS=Community Center (Tipi) 2330 Sioux Trail NW Prior Lake MN 55372 United States;X-APPLE-RADIUS=500;X-TITLE=2330 Sioux Trail NW:geo:-93.4730448,44.7362437
END:VEVENT
BEGIN:VEVENT
DTSTART;TZID=America/Chicago:20230503T100000
DTEND;TZID=America/Chicago:20230503T140000
DTSTAMP:20260421T143156
CREATED:20230428T173942Z
LAST-MODIFIED:20230428T174318Z
UID:10002315-1683108000-1683122400@www.wellness.dev.smscmarketing.org
SUMMARY:Pop-Up Vision Clinic
DESCRIPTION:Clinics include visual acuity screenings\, auto-refraction screenings\, take undilated photos of eyes\, and can refer patients to the SMSC Vision Clinic for a more thorough exam. The screenings take about 10 minutes per patient \nSMSC Vision Clinic
URL:https://www.wellness.dev.smscmarketing.org/event/pop-up-vision-clinic/
LOCATION:The Quiet Space Near the Mystic Lake Team Member Entrance
CATEGORIES:Purple
END:VEVENT
BEGIN:VEVENT
DTSTART;TZID=America/Chicago:20230501T114500
DTEND;TZID=America/Chicago:20230501T123000
DTSTAMP:20260421T143156
CREATED:20230420T204239Z
LAST-MODIFIED:20230420T204315Z
UID:10002216-1682941500-1682944200@www.wellness.dev.smscmarketing.org
SUMMARY:Crock Pot Mondays - Jambalaya
DESCRIPTION:Crock Pot Mondays – Jambalaya\nMeal kits will be preassembled. No need to bring your slow cooker. Registration fee is $15. Please RSVP by the Monday prior to the event.
URL:https://www.wellness.dev.smscmarketing.org/event/crock-pot-mondays-jambalaya-pw/
LOCATION:Playworks Front Desk\, 2200 Trail of Dreams\, Prior Lake\, MN\, 55372\, United States
CATEGORIES:Blue,Crock Pot Mondays
GEO:44.725166;-93.477036
X-APPLE-STRUCTURED-LOCATION;VALUE=URI;X-ADDRESS=Playworks Front Desk 2200 Trail of Dreams Prior Lake MN 55372 United States;X-APPLE-RADIUS=500;X-TITLE=2200 Trail of Dreams:geo:-93.477036,44.725166
END:VEVENT
BEGIN:VEVENT
DTSTART;TZID=America/Chicago:20230501T114500
DTEND;TZID=America/Chicago:20230501T123000
DTSTAMP:20260421T143156
CREATED:20230420T201424Z
LAST-MODIFIED:20230420T204235Z
UID:10002213-1682941500-1682944200@www.wellness.dev.smscmarketing.org
SUMMARY:Crock Pot Mondays - Jambalaya
DESCRIPTION:Crock Pot Mondays – Jambalaya\nMeal kits will be preassembled. No need to bring your slow cooker. Registration fee is $15. Please RSVP by the Monday prior to the event.
URL:https://www.wellness.dev.smscmarketing.org/event/crock-pot-mondays-jambalaya-cc/
LOCATION:Community Center (Tipi)\, 2330 Sioux Trail NW\, Prior Lake\, MN\, 55372\, United States
CATEGORIES:Blue,Crock Pot Mondays
GEO:44.7362437;-93.4730448
X-APPLE-STRUCTURED-LOCATION;VALUE=URI;X-ADDRESS=Community Center (Tipi) 2330 Sioux Trail NW Prior Lake MN 55372 United States;X-APPLE-RADIUS=500;X-TITLE=2330 Sioux Trail NW:geo:-93.4730448,44.7362437
END:VEVENT
BEGIN:VEVENT
DTSTART;TZID=America/Chicago:20230427T163000
DTEND;TZID=America/Chicago:20230427T171500
DTSTAMP:20260421T143156
CREATED:20230322T131258Z
LAST-MODIFIED:20230322T131344Z
UID:10002110-1682613000-1682615700@www.wellness.dev.smscmarketing.org
SUMMARY:Meals Made Easy - Curried Lamb Meatballs\, Lemon Infused Couscous\, Roasted Vegetables
DESCRIPTION:Meals Made Easy – Curried Lamb Meatballs\, Lemon Infused Couscous\, Roasted Vegetables (Contains Seafood)\nSimply sign up\, pay $20\, and pick up your meal. Each meal feeds a family of four and features all-natural ingredients from Wozupi Tribal Gardens and Mazopiya.
URL:https://www.wellness.dev.smscmarketing.org/event/meals-made-easy-curried-lamb-meatballs-lemon-infused-couscous-roasted-vegetables-pw/
LOCATION:Playworks Front Desk\, 2200 Trail of Dreams\, Prior Lake\, MN\, 55372\, United States
CATEGORIES:Meals Made Easy
GEO:44.725166;-93.477036
X-APPLE-STRUCTURED-LOCATION;VALUE=URI;X-ADDRESS=Playworks Front Desk 2200 Trail of Dreams Prior Lake MN 55372 United States;X-APPLE-RADIUS=500;X-TITLE=2200 Trail of Dreams:geo:-93.477036,44.725166
END:VEVENT
BEGIN:VEVENT
DTSTART;TZID=America/Chicago:20230427T163000
DTEND;TZID=America/Chicago:20230427T171500
DTSTAMP:20260421T143156
CREATED:20230322T131254Z
LAST-MODIFIED:20230322T131254Z
UID:10002109-1682613000-1682615700@www.wellness.dev.smscmarketing.org
SUMMARY:Meals Made Easy - Curried Lamb Meatballs\, Lemon Infused Couscous\, Roasted Vegetables
DESCRIPTION:Meals Made Easy – Curried Lamb Meatballs\, Lemon Infused Couscous\, Roasted Vegetables (Contains Seafood)\nSimply sign up\, pay $20\, and pick up your meal. Each meal feeds a family of four and features all-natural ingredients from Wozupi Tribal Gardens and Mazopiya.
URL:https://www.wellness.dev.smscmarketing.org/event/meals-made-easy-curried-lamb-meatballs-lemon-infused-couscous-roasted-vegetables-cc/
LOCATION:Community Center (Tipi)\, 2330 Sioux Trail NW\, Prior Lake\, MN\, 55372\, United States
CATEGORIES:Meals Made Easy
GEO:44.7362437;-93.4730448
X-APPLE-STRUCTURED-LOCATION;VALUE=URI;X-ADDRESS=Community Center (Tipi) 2330 Sioux Trail NW Prior Lake MN 55372 United States;X-APPLE-RADIUS=500;X-TITLE=2330 Sioux Trail NW:geo:-93.4730448,44.7362437
END:VEVENT
BEGIN:VEVENT
DTSTART;TZID=America/Chicago:20230424T114500
DTEND;TZID=America/Chicago:20230424T123000
DTSTAMP:20260421T143156
CREATED:20230322T133504Z
LAST-MODIFIED:20230322T133553Z
UID:10002211-1682336700-1682339400@www.wellness.dev.smscmarketing.org
SUMMARY:Crock Pot Mondays - Butternut Squash and Italian Sausage Risotto
DESCRIPTION:Crock Pot Mondays – Butternut Squash and Italian Sausage Risotto (Gluten-Free\, Soy-Free)\nMeal kits will be preassembled. No need to bring your slow cooker. Registration fee is $15. Please RSVP by the Monday prior to the event.
URL:https://www.wellness.dev.smscmarketing.org/event/crock-pot-mondays-butternut-squash-and-italian-sausage-risotto-pw/
LOCATION:Playworks Front Desk\, 2200 Trail of Dreams\, Prior Lake\, MN\, 55372\, United States
CATEGORIES:Crock Pot Mondays
GEO:44.725166;-93.477036
X-APPLE-STRUCTURED-LOCATION;VALUE=URI;X-ADDRESS=Playworks Front Desk 2200 Trail of Dreams Prior Lake MN 55372 United States;X-APPLE-RADIUS=500;X-TITLE=2200 Trail of Dreams:geo:-93.477036,44.725166
END:VEVENT
END:VCALENDAR