BEGIN:VCALENDAR
VERSION:2.0
PRODID:-//SMSC Health and Wellness | Wellness Made Easy - ECPv6.15.13//NONSGML v1.0//EN
CALSCALE:GREGORIAN
METHOD:PUBLISH
X-ORIGINAL-URL:https://www.wellness.dev.smscmarketing.org
X-WR-CALDESC:Events for SMSC Health and Wellness | Wellness Made Easy
REFRESH-INTERVAL;VALUE=DURATION:PT1H
X-Robots-Tag:noindex
X-PUBLISHED-TTL:PT1H
BEGIN:VTIMEZONE
TZID:America/Chicago
BEGIN:DAYLIGHT
TZOFFSETFROM:-0600
TZOFFSETTO:-0500
TZNAME:CDT
DTSTART:20220313T080000
END:DAYLIGHT
BEGIN:STANDARD
TZOFFSETFROM:-0500
TZOFFSETTO:-0600
TZNAME:CST
DTSTART:20221106T070000
END:STANDARD
BEGIN:DAYLIGHT
TZOFFSETFROM:-0600
TZOFFSETTO:-0500
TZNAME:CDT
DTSTART:20230312T080000
END:DAYLIGHT
BEGIN:STANDARD
TZOFFSETFROM:-0500
TZOFFSETTO:-0600
TZNAME:CST
DTSTART:20231105T070000
END:STANDARD
BEGIN:DAYLIGHT
TZOFFSETFROM:-0600
TZOFFSETTO:-0500
TZNAME:CDT
DTSTART:20240310T080000
END:DAYLIGHT
BEGIN:STANDARD
TZOFFSETFROM:-0500
TZOFFSETTO:-0600
TZNAME:CST
DTSTART:20241103T070000
END:STANDARD
END:VTIMEZONE
BEGIN:VEVENT
DTSTART;VALUE=DATE:20231117
DTEND;VALUE=DATE:20231118
DTSTAMP:20260421T051647
CREATED:20231018T160605Z
LAST-MODIFIED:20231018T160806Z
UID:10002181-1700179200-1700265599@www.wellness.dev.smscmarketing.org
SUMMARY:Bexa Breast Exam
DESCRIPTION:SMSC is partnering with Bexa to offer accurate and painless breast exams completely FREE of charge to Community Members\, employees\, team members\, and their spouses and dependents. \nSchedule your appointment today!
URL:https://www.wellness.dev.smscmarketing.org/event/bexa-breast-exam-5/
LOCATION:Tribal Public Health or Mystic Clinic
CATEGORIES:Purple
END:VEVENT
BEGIN:VEVENT
DTSTART;TZID=America/Chicago:20231116T163000
DTEND;TZID=America/Chicago:20231116T171500
DTSTAMP:20260421T051647
CREATED:20230927T160606Z
LAST-MODIFIED:20230927T160652Z
UID:10002161-1700152200-1700154900@www.wellness.dev.smscmarketing.org
SUMMARY:Meals Made Easy - Barbecue Pork Ribs
DESCRIPTION:Meals Made Easy – Barbecue Pork Ribs\, Cauliflower Gratin\, Grilled Asparagus (Gluten-Free)\nSimply sign up\, pay $20\, and pick up your meal. Each meal feeds a family of four and features all-natural ingredients from Wozupi Tribal Gardens.
URL:https://www.wellness.dev.smscmarketing.org/event/meals-made-easy-barbecue-pork-ribs-pw/
LOCATION:Playworks Front Desk\, 2200 Trail of Dreams\, Prior Lake\, MN\, 55372\, United States
CATEGORIES:Meals Made Easy
GEO:44.725166;-93.477036
X-APPLE-STRUCTURED-LOCATION;VALUE=URI;X-ADDRESS=Playworks Front Desk 2200 Trail of Dreams Prior Lake MN 55372 United States;X-APPLE-RADIUS=500;X-TITLE=2200 Trail of Dreams:geo:-93.477036,44.725166
END:VEVENT
BEGIN:VEVENT
DTSTART;TZID=America/Chicago:20231116T163000
DTEND;TZID=America/Chicago:20231116T171500
DTSTAMP:20260421T051647
CREATED:20230927T160500Z
LAST-MODIFIED:20230927T160500Z
UID:10002159-1700152200-1700154900@www.wellness.dev.smscmarketing.org
SUMMARY:Meals Made Easy - Barbecue Pork Ribs
DESCRIPTION:Meals Made Easy – Barbecue Pork Ribs\, Cauliflower Gratin\, Grilled Asparagus (Gluten-Free)\nSimply sign up\, pay $20\, and pick up your meal. Each meal feeds a family of four and features all-natural ingredients from Wozupi Tribal Gardens.
URL:https://www.wellness.dev.smscmarketing.org/event/meals-made-easy-barbecue-pork-ribs-cc/
LOCATION:Community Center (Tipi)\, 2330 Sioux Trail NW\, Prior Lake\, MN\, 55372\, United States
CATEGORIES:Meals Made Easy
GEO:44.7362437;-93.4730448
X-APPLE-STRUCTURED-LOCATION;VALUE=URI;X-ADDRESS=Community Center (Tipi) 2330 Sioux Trail NW Prior Lake MN 55372 United States;X-APPLE-RADIUS=500;X-TITLE=2330 Sioux Trail NW:geo:-93.4730448,44.7362437
END:VEVENT
BEGIN:VEVENT
DTSTART;VALUE=DATE:20231116
DTEND;VALUE=DATE:20231117
DTSTAMP:20260421T051647
CREATED:20231018T160543Z
LAST-MODIFIED:20231018T161408Z
UID:10002179-1700092800-1700179199@www.wellness.dev.smscmarketing.org
SUMMARY:Bexa Breast Exam
DESCRIPTION:SMSC is partnering with Bexa to offer accurate and painless breast exams completely FREE of charge to Community Members\, employees\, team members\, and their spouses and dependents. \nSchedule your appointment today!
URL:https://www.wellness.dev.smscmarketing.org/event/bexa-breast-exam-4/
LOCATION:Tribal Public Health or Mystic Clinic
CATEGORIES:Purple
END:VEVENT
BEGIN:VEVENT
DTSTART;VALUE=DATE:20231115
DTEND;VALUE=DATE:20231116
DTSTAMP:20260421T051647
CREATED:20231018T160513Z
LAST-MODIFIED:20231018T161403Z
UID:10002177-1700006400-1700092799@www.wellness.dev.smscmarketing.org
SUMMARY:Bexa Breast Exam
DESCRIPTION:SMSC is partnering with Bexa to offer accurate and painless breast exams completely FREE of charge to Community Members\, employees\, team members\, and their spouses and dependents. \nSchedule your appointment today!
URL:https://www.wellness.dev.smscmarketing.org/event/bexa-breast-exam-3/
LOCATION:Tribal Public Health or Mystic Clinic
CATEGORIES:Purple
END:VEVENT
BEGIN:VEVENT
DTSTART;VALUE=DATE:20231114
DTEND;VALUE=DATE:20231115
DTSTAMP:20260421T051647
CREATED:20231018T160311Z
LAST-MODIFIED:20231018T161358Z
UID:10002175-1699920000-1700006399@www.wellness.dev.smscmarketing.org
SUMMARY:Bexa Breast Exam
DESCRIPTION:SMSC is partnering with Bexa to offer accurate and painless breast exams completely FREE of charge to Community Members\, employees\, team members\, and their spouses and dependents. \nSchedule your appointment today!
URL:https://www.wellness.dev.smscmarketing.org/event/bexa-breast-exam-2/
LOCATION:Tribal Public Health or Mystic Clinic
CATEGORIES:Purple
END:VEVENT
BEGIN:VEVENT
DTSTART;TZID=America/Chicago:20231113T114500
DTEND;TZID=America/Chicago:20231113T123000
DTSTAMP:20260421T051647
CREATED:20230927T143529Z
LAST-MODIFIED:20231020T153306Z
UID:10002125-1699875900-1699878600@www.wellness.dev.smscmarketing.org
SUMMARY:Crock Pot Mondays - Thai Beef in Peanut Sauce
DESCRIPTION:Crock Pot Mondays – Thai Beef in Peanut Sauce (Gluten-Free\, Dairy-Free\, Contains Seafood)\nMeal kits will be preassembled. No need to bring your slow cooker. Registration fee is $15. Please RSVP by the Monday prior to the event.
URL:https://www.wellness.dev.smscmarketing.org/event/crock-pot-mondays-thai-beef-in-peanut-sauce-pw/
LOCATION:Playworks Front Desk\, 2200 Trail of Dreams\, Prior Lake\, MN\, 55372\, United States
CATEGORIES:Crock Pot Mondays
GEO:44.725166;-93.477036
X-APPLE-STRUCTURED-LOCATION;VALUE=URI;X-ADDRESS=Playworks Front Desk 2200 Trail of Dreams Prior Lake MN 55372 United States;X-APPLE-RADIUS=500;X-TITLE=2200 Trail of Dreams:geo:-93.477036,44.725166
END:VEVENT
BEGIN:VEVENT
DTSTART;TZID=America/Chicago:20231113T114500
DTEND;TZID=America/Chicago:20231113T123000
DTSTAMP:20260421T051647
CREATED:20230927T143518Z
LAST-MODIFIED:20231020T153256Z
UID:10002124-1699875900-1699878600@www.wellness.dev.smscmarketing.org
SUMMARY:Crock Pot Mondays - Thai Beef in Peanut Sauce
DESCRIPTION:Crock Pot Mondays – Thai Beef in Peanut Sauce (Gluten-Free\, Dairy-Free\, Contains Seafood)\nMeal kits will be preassembled. No need to bring your slow cooker. Registration fee is $15. Please RSVP by the Monday prior to the event.
URL:https://www.wellness.dev.smscmarketing.org/event/crock-pot-mondays-thai-beef-in-peanut-sauce-cc/
LOCATION:Community Center (Tipi)\, 2330 Sioux Trail NW\, Prior Lake\, MN\, 55372\, United States
CATEGORIES:Crock Pot Mondays
GEO:44.7362437;-93.4730448
X-APPLE-STRUCTURED-LOCATION;VALUE=URI;X-ADDRESS=Community Center (Tipi) 2330 Sioux Trail NW Prior Lake MN 55372 United States;X-APPLE-RADIUS=500;X-TITLE=2330 Sioux Trail NW:geo:-93.4730448,44.7362437
END:VEVENT
BEGIN:VEVENT
DTSTART;VALUE=DATE:20231113
DTEND;VALUE=DATE:20231114
DTSTAMP:20260421T051647
CREATED:20231018T160200Z
LAST-MODIFIED:20231018T160813Z
UID:10002173-1699833600-1699919999@www.wellness.dev.smscmarketing.org
SUMMARY:Bexa Breast Exam
DESCRIPTION:SMSC is partnering with Bexa to offer accurate and painless breast exams completely FREE of charge to Community Members\, employees\, team members\, and their spouses and dependents. \nSchedule your appointment today!
URL:https://www.wellness.dev.smscmarketing.org/event/bexa-breast-exam/
LOCATION:Tribal Public Health or Mystic Clinic
CATEGORIES:Purple
END:VEVENT
BEGIN:VEVENT
DTSTART;TZID=America/Chicago:20231109T163000
DTEND;TZID=America/Chicago:20231109T171500
DTSTAMP:20260421T051647
CREATED:20230927T144503Z
LAST-MODIFIED:20230927T144542Z
UID:10002157-1699547400-1699550100@www.wellness.dev.smscmarketing.org
SUMMARY:Meals Made Easy - Chili-Lime Chicken Thighs
DESCRIPTION:Meals Made Easy – Chili-Lime Chicken Thighs\, Southwest Quinoa Salad (Gluten-Free\, Dairy-Free)\nSimply sign up\, pay $20\, and pick up your meal. Each meal feeds a family of four and features all-natural ingredients from Wozupi Tribal Gardens.
URL:https://www.wellness.dev.smscmarketing.org/event/meals-made-easy-chili-lime-chicken-thighs-pw/
LOCATION:Playworks Front Desk\, 2200 Trail of Dreams\, Prior Lake\, MN\, 55372\, United States
CATEGORIES:Meals Made Easy
GEO:44.725166;-93.477036
X-APPLE-STRUCTURED-LOCATION;VALUE=URI;X-ADDRESS=Playworks Front Desk 2200 Trail of Dreams Prior Lake MN 55372 United States;X-APPLE-RADIUS=500;X-TITLE=2200 Trail of Dreams:geo:-93.477036,44.725166
END:VEVENT
BEGIN:VEVENT
DTSTART;TZID=America/Chicago:20231109T163000
DTEND;TZID=America/Chicago:20231109T171500
DTSTAMP:20260421T051647
CREATED:20230927T144457Z
LAST-MODIFIED:20230927T144457Z
UID:10002155-1699547400-1699550100@www.wellness.dev.smscmarketing.org
SUMMARY:Meals Made Easy - Chili-Lime Chicken Thighs
DESCRIPTION:Meals Made Easy – Chili-Lime Chicken Thighs\, Southwest Quinoa Salad (Gluten-Free\, Dairy-Free)\nSimply sign up\, pay $20\, and pick up your meal. Each meal feeds a family of four and features all-natural ingredients from Wozupi Tribal Gardens.
URL:https://www.wellness.dev.smscmarketing.org/event/meals-made-easy-chili-lime-chicken-thighs/
LOCATION:Community Center (Tipi)\, 2330 Sioux Trail NW\, Prior Lake\, MN\, 55372\, United States
CATEGORIES:Meals Made Easy
GEO:44.7362437;-93.4730448
X-APPLE-STRUCTURED-LOCATION;VALUE=URI;X-ADDRESS=Community Center (Tipi) 2330 Sioux Trail NW Prior Lake MN 55372 United States;X-APPLE-RADIUS=500;X-TITLE=2330 Sioux Trail NW:geo:-93.4730448,44.7362437
END:VEVENT
BEGIN:VEVENT
DTSTART;TZID=America/Chicago:20231106T114500
DTEND;TZID=America/Chicago:20231106T123000
DTSTAMP:20260421T051647
CREATED:20230927T143314Z
LAST-MODIFIED:20231020T153226Z
UID:10002123-1699271100-1699273800@www.wellness.dev.smscmarketing.org
SUMMARY:Crock Pot Mondays - Split Pea and Ham Soup
DESCRIPTION:Crock Pot Mondays – Split Pea and Ham Soup (Gluten-Free\, Dairy-Free\, Soy-Free)\nMeal kits will be preassembled. No need to bring your slow cooker. Registration fee is $15. Please RSVP by the Monday prior to the event.
URL:https://www.wellness.dev.smscmarketing.org/event/crock-pot-mondays-split-pea-and-ham-soup-pw/
LOCATION:Playworks Front Desk\, 2200 Trail of Dreams\, Prior Lake\, MN\, 55372\, United States
CATEGORIES:Crock Pot Mondays
GEO:44.725166;-93.477036
X-APPLE-STRUCTURED-LOCATION;VALUE=URI;X-ADDRESS=Playworks Front Desk 2200 Trail of Dreams Prior Lake MN 55372 United States;X-APPLE-RADIUS=500;X-TITLE=2200 Trail of Dreams:geo:-93.477036,44.725166
END:VEVENT
BEGIN:VEVENT
DTSTART;TZID=America/Chicago:20231106T114500
DTEND;TZID=America/Chicago:20231106T123000
DTSTAMP:20260421T051647
CREATED:20230927T143310Z
LAST-MODIFIED:20231020T153212Z
UID:10002122-1699271100-1699273800@www.wellness.dev.smscmarketing.org
SUMMARY:Crock Pot Mondays - Split Pea and Ham Soup
DESCRIPTION:Crock Pot Mondays – Split Pea and Ham Soup (Gluten-Free\, Dairy-Free\, Soy-Free)\nMeal kits will be preassembled. No need to bring your slow cooker. Registration fee is $15. Please RSVP by the Monday prior to the event.
URL:https://www.wellness.dev.smscmarketing.org/event/crock-pot-mondays-split-pea-and-ham-soup-cc/
LOCATION:Community Center (Tipi)\, 2330 Sioux Trail NW\, Prior Lake\, MN\, 55372\, United States
CATEGORIES:Crock Pot Mondays
GEO:44.7362437;-93.4730448
X-APPLE-STRUCTURED-LOCATION;VALUE=URI;X-ADDRESS=Community Center (Tipi) 2330 Sioux Trail NW Prior Lake MN 55372 United States;X-APPLE-RADIUS=500;X-TITLE=2330 Sioux Trail NW:geo:-93.4730448,44.7362437
END:VEVENT
BEGIN:VEVENT
DTSTART;TZID=America/Chicago:20231102T163000
DTEND;TZID=America/Chicago:20231102T171500
DTSTAMP:20260421T051647
CREATED:20230927T144058Z
LAST-MODIFIED:20230927T144152Z
UID:10002129-1698942600-1698945300@www.wellness.dev.smscmarketing.org
SUMMARY:Meals Made Easy - Elk Meatballs with Cranberry Barbecue Sauce
DESCRIPTION:Meals Made Easy – Elk Meatballs with Cranberry Barbecue Sauce\, Wild Rice\, Roasted Vegetables\nSimply sign up\, pay $20\, and pick up your meal. Each meal feeds a family of four and features all-natural ingredients from Wozupi Tribal Gardens.
URL:https://www.wellness.dev.smscmarketing.org/event/meals-made-easy-elk-meatballs-with-cranberry-barbecue-sauce-pw/
LOCATION:Playworks Front Desk\, 2200 Trail of Dreams\, Prior Lake\, MN\, 55372\, United States
CATEGORIES:Meals Made Easy
GEO:44.725166;-93.477036
X-APPLE-STRUCTURED-LOCATION;VALUE=URI;X-ADDRESS=Playworks Front Desk 2200 Trail of Dreams Prior Lake MN 55372 United States;X-APPLE-RADIUS=500;X-TITLE=2200 Trail of Dreams:geo:-93.477036,44.725166
END:VEVENT
BEGIN:VEVENT
DTSTART;TZID=America/Chicago:20231102T163000
DTEND;TZID=America/Chicago:20231102T171500
DTSTAMP:20260421T051647
CREATED:20230927T144053Z
LAST-MODIFIED:20230927T144255Z
UID:10002128-1698942600-1698945300@www.wellness.dev.smscmarketing.org
SUMMARY:Meals Made Easy - Elk Meatballs with Cranberry Barbecue Sauce
DESCRIPTION:Meals Made Easy – Elk Meatballs with Cranberry Barbecue Sauce\, Wild Rice\, Roasted Vegetables\nSimply sign up\, pay $20\, and pick up your meal. Each meal feeds a family of four and features all-natural ingredients from Wozupi Tribal Gardens.
URL:https://www.wellness.dev.smscmarketing.org/event/meals-made-easy-elk-meatballs-with-cranberry-barbecue-sauce/
LOCATION:Community Center (Tipi)\, 2330 Sioux Trail NW\, Prior Lake\, MN\, 55372\, United States
CATEGORIES:Meals Made Easy
GEO:44.7362437;-93.4730448
X-APPLE-STRUCTURED-LOCATION;VALUE=URI;X-ADDRESS=Community Center (Tipi) 2330 Sioux Trail NW Prior Lake MN 55372 United States;X-APPLE-RADIUS=500;X-TITLE=2330 Sioux Trail NW:geo:-93.4730448,44.7362437
END:VEVENT
BEGIN:VEVENT
DTSTART;TZID=America/Chicago:20231030T114500
DTEND;TZID=America/Chicago:20231030T123000
DTSTAMP:20260421T051647
CREATED:20230911T140434Z
LAST-MODIFIED:20231020T153142Z
UID:10002145-1698666300-1698669000@www.wellness.dev.smscmarketing.org
SUMMARY:Crock Pot Mondays - Chicken and Squash Curry
DESCRIPTION:Crock Pot Mondays – Chicken and Squash Curry (Gluten-Free\, Dairy-Free\, Contains Seafood)\nMeal kits will be preassembled. No need to bring your slow cooker. Registration fee is $15. Please RSVP by the Monday prior to the event.
URL:https://www.wellness.dev.smscmarketing.org/event/crock-pot-mondays-chicken-and-squash-curry-pw/
LOCATION:Playworks Front Desk\, 2200 Trail of Dreams\, Prior Lake\, MN\, 55372\, United States
CATEGORIES:Crock Pot Mondays
GEO:44.725166;-93.477036
X-APPLE-STRUCTURED-LOCATION;VALUE=URI;X-ADDRESS=Playworks Front Desk 2200 Trail of Dreams Prior Lake MN 55372 United States;X-APPLE-RADIUS=500;X-TITLE=2200 Trail of Dreams:geo:-93.477036,44.725166
END:VEVENT
BEGIN:VEVENT
DTSTART;TZID=America/Chicago:20231030T114500
DTEND;TZID=America/Chicago:20231030T123000
DTSTAMP:20260421T051647
CREATED:20230911T140430Z
LAST-MODIFIED:20231020T153136Z
UID:10002143-1698666300-1698669000@www.wellness.dev.smscmarketing.org
SUMMARY:Crock Pot Mondays - Chicken and Squash Curry
DESCRIPTION:Crock Pot Mondays – Chicken and Squash Curry (Gluten-Free\, Dairy-Free\, Contains Seafood)\nMeal kits will be preassembled. No need to bring your slow cooker. Registration fee is $15. Please RSVP by the Monday prior to the event.
URL:https://www.wellness.dev.smscmarketing.org/event/crock-pot-mondays-chicken-and-squash-curry-cc/
LOCATION:Community Center (Tipi)\, 2330 Sioux Trail NW\, Prior Lake\, MN\, 55372\, United States
CATEGORIES:Crock Pot Mondays
GEO:44.7362437;-93.4730448
X-APPLE-STRUCTURED-LOCATION;VALUE=URI;X-ADDRESS=Community Center (Tipi) 2330 Sioux Trail NW Prior Lake MN 55372 United States;X-APPLE-RADIUS=500;X-TITLE=2330 Sioux Trail NW:geo:-93.4730448,44.7362437
END:VEVENT
BEGIN:VEVENT
DTSTART;TZID=America/Chicago:20231026T163000
DTEND;TZID=America/Chicago:20231026T171500
DTSTAMP:20260421T051647
CREATED:20230911T141253Z
LAST-MODIFIED:20230911T141339Z
UID:10002121-1698337800-1698340500@www.wellness.dev.smscmarketing.org
SUMMARY:Meals Made Easy - Maple-Glazed Pork Tenderloin
DESCRIPTION:Meals Made Easy – Maple-Glazed Pork Tenderloin\, German Potato Salad\, Braised Cabbage (Gluten-Free\, Dairy-Free)\nSimply sign up\, pay $20\, and pick up your meal. Each meal feeds a family of four and features all-natural ingredients from Wozupi Tribal Gardens.
URL:https://www.wellness.dev.smscmarketing.org/event/meals-made-easy-maple-glazed-pork-tenderloin-pw/
LOCATION:Playworks Front Desk\, 2200 Trail of Dreams\, Prior Lake\, MN\, 55372\, United States
CATEGORIES:Meals Made Easy
GEO:44.725166;-93.477036
X-APPLE-STRUCTURED-LOCATION;VALUE=URI;X-ADDRESS=Playworks Front Desk 2200 Trail of Dreams Prior Lake MN 55372 United States;X-APPLE-RADIUS=500;X-TITLE=2200 Trail of Dreams:geo:-93.477036,44.725166
END:VEVENT
BEGIN:VEVENT
DTSTART;TZID=America/Chicago:20231026T163000
DTEND;TZID=America/Chicago:20231026T171500
DTSTAMP:20260421T051647
CREATED:20230911T141250Z
LAST-MODIFIED:20230911T141250Z
UID:10002120-1698337800-1698340500@www.wellness.dev.smscmarketing.org
SUMMARY:Meals Made Easy - Maple-Glazed Pork Tenderloin
DESCRIPTION:Meals Made Easy – Maple-Glazed Pork Tenderloin\, German Potato Salad\, Braised Cabbage (Gluten-Free\, Dairy-Free)\nSimply sign up\, pay $20\, and pick up your meal. Each meal feeds a family of four and features all-natural ingredients from Wozupi Tribal Gardens.
URL:https://www.wellness.dev.smscmarketing.org/event/meals-made-easy-maple-glazed-pork-tenderloin-cc/
LOCATION:Community Center (Tipi)\, 2330 Sioux Trail NW\, Prior Lake\, MN\, 55372\, United States
CATEGORIES:Meals Made Easy
GEO:44.7362437;-93.4730448
X-APPLE-STRUCTURED-LOCATION;VALUE=URI;X-ADDRESS=Community Center (Tipi) 2330 Sioux Trail NW Prior Lake MN 55372 United States;X-APPLE-RADIUS=500;X-TITLE=2330 Sioux Trail NW:geo:-93.4730448,44.7362437
END:VEVENT
BEGIN:VEVENT
DTSTART;TZID=America/Chicago:20231026T070000
DTEND;TZID=America/Chicago:20231026T150000
DTSTAMP:20260421T051647
CREATED:20230929T130106Z
LAST-MODIFIED:20230929T130131Z
UID:10002171-1698303600-1698332400@www.wellness.dev.smscmarketing.org
SUMMARY:Flu Shots and Covid-19 Vaccines
DESCRIPTION:Get ahead of sick season this year! Tribal Public Health is here to help with a series of free flue and COVID-19 vaccine clinics during October for all SMSC employees and team members. \nMake sure to bring your SMSC badge.
URL:https://www.wellness.dev.smscmarketing.org/event/flu-shots-and-covid-19-vaccines-10-26-2023/
LOCATION:Mystic Quiet Space
CATEGORIES:Teal
END:VEVENT
BEGIN:VEVENT
DTSTART;TZID=America/Chicago:20231024T090000
DTEND;TZID=America/Chicago:20231024T163000
DTSTAMP:20260421T051647
CREATED:20230929T130040Z
LAST-MODIFIED:20230929T130150Z
UID:10002170-1698138000-1698165000@www.wellness.dev.smscmarketing.org
SUMMARY:Flu Shots and Covid-19 Vaccines
DESCRIPTION:Get ahead of sick season this year! Tribal Public Health is here to help with a series of free flue and COVID-19 vaccine clinics during October for all SMSC employees and team members. \nMake sure to bring your SMSC badge.
URL:https://www.wellness.dev.smscmarketing.org/event/flu-shots-and-covid-19-vaccines-10-24-2023/
LOCATION:Mystic Quiet Space
CATEGORIES:Teal
END:VEVENT
BEGIN:VEVENT
DTSTART;TZID=America/Chicago:20231018T070000
DTEND;TZID=America/Chicago:20231018T140000
DTSTAMP:20260421T051647
CREATED:20230201T194412Z
LAST-MODIFIED:20230201T194458Z
UID:10002182-1697612400-1697637600@www.wellness.dev.smscmarketing.org
SUMMARY:Mobile Mammogram Clinic
DESCRIPTION:Get Your Annual Mammogram\nThe best protection from breast cancer is early detection.\nOn-site mobile mammograms are quick\, easy\, and convenient! FREE for women enrolled in an SMSC medical insurance plan.
URL:https://www.wellness.dev.smscmarketing.org/event/mobile-mammogram-clinic-10-18-23/
LOCATION:Mystic Team Member Entrance (Mobile Mammogram Vehicle)
END:VEVENT
BEGIN:VEVENT
DTSTART;TZID=America/Chicago:20231016T114500
DTEND;TZID=America/Chicago:20231016T123000
DTSTAMP:20260421T051647
CREATED:20230911T140223Z
LAST-MODIFIED:20230911T140306Z
UID:10002141-1697456700-1697459400@www.wellness.dev.smscmarketing.org
SUMMARY:Crock Pot Mondays - Sausage and Peppers
DESCRIPTION:Crock Pot Mondays – Sausage and Peppers\nMeal kits will be preassembled. No need to bring your slow cooker. Registration fee is $15. Please RSVP by the Monday prior to the event.
URL:https://www.wellness.dev.smscmarketing.org/event/crock-pot-mondays-sausage-and-peppers-pw/
LOCATION:Playworks Front Desk\, 2200 Trail of Dreams\, Prior Lake\, MN\, 55372\, United States
CATEGORIES:Crock Pot Mondays
GEO:44.725166;-93.477036
X-APPLE-STRUCTURED-LOCATION;VALUE=URI;X-ADDRESS=Playworks Front Desk 2200 Trail of Dreams Prior Lake MN 55372 United States;X-APPLE-RADIUS=500;X-TITLE=2200 Trail of Dreams:geo:-93.477036,44.725166
END:VEVENT
BEGIN:VEVENT
DTSTART;TZID=America/Chicago:20231016T114500
DTEND;TZID=America/Chicago:20231016T123000
DTSTAMP:20260421T051647
CREATED:20230911T140147Z
LAST-MODIFIED:20230911T140200Z
UID:10002139-1697456700-1697459400@www.wellness.dev.smscmarketing.org
SUMMARY:Crock Pot Mondays - Sausage and Peppers
DESCRIPTION:Crock Pot Mondays – Sausage and Peppers\nMeal kits will be preassembled. No need to bring your slow cooker. Registration fee is $15. Please RSVP by the Monday prior to the event.
URL:https://www.wellness.dev.smscmarketing.org/event/crock-pot-mondays-sausage-and-peppers-cc/
LOCATION:Community Center (Tipi)\, 2330 Sioux Trail NW\, Prior Lake\, MN\, 55372\, United States
CATEGORIES:Crock Pot Mondays
GEO:44.7362437;-93.4730448
X-APPLE-STRUCTURED-LOCATION;VALUE=URI;X-ADDRESS=Community Center (Tipi) 2330 Sioux Trail NW Prior Lake MN 55372 United States;X-APPLE-RADIUS=500;X-TITLE=2330 Sioux Trail NW:geo:-93.4730448,44.7362437
END:VEVENT
BEGIN:VEVENT
DTSTART;TZID=America/Chicago:20231012T163000
DTEND;TZID=America/Chicago:20231012T171500
DTSTAMP:20260421T051647
CREATED:20230911T141012Z
LAST-MODIFIED:20230911T141058Z
UID:10002153-1697128200-1697130900@www.wellness.dev.smscmarketing.org
SUMMARY:Meals Made Easy - Jamaican Jerk Chicken\, Grilled Pineapple\, and Black Bean Salsa\, Coconut Rice
DESCRIPTION:Meals Made Easy – Jamaican Jerk Chicken\, Grilled Pineapple\, and Black Bean Salsa\, Coconut Rice (Gluten-Free\, Dairy-Free\, Soy-Free)\nSimply sign up\, pay $20\, and pick up your meal. Each meal feeds a family of four and features all-natural ingredients from Wozupi Tribal Gardens.
URL:https://www.wellness.dev.smscmarketing.org/event/meals-made-easy-jamaican-jerk-chicken-grilled-pineapple-and-black-bean-salsa-coconut-rice-pw/
LOCATION:Playworks Front Desk\, 2200 Trail of Dreams\, Prior Lake\, MN\, 55372\, United States
CATEGORIES:Meals Made Easy
GEO:44.725166;-93.477036
X-APPLE-STRUCTURED-LOCATION;VALUE=URI;X-ADDRESS=Playworks Front Desk 2200 Trail of Dreams Prior Lake MN 55372 United States;X-APPLE-RADIUS=500;X-TITLE=2200 Trail of Dreams:geo:-93.477036,44.725166
END:VEVENT
BEGIN:VEVENT
DTSTART;TZID=America/Chicago:20231012T163000
DTEND;TZID=America/Chicago:20231012T171500
DTSTAMP:20260421T051647
CREATED:20230911T141007Z
LAST-MODIFIED:20230911T141007Z
UID:10002151-1697128200-1697130900@www.wellness.dev.smscmarketing.org
SUMMARY:Meals Made Easy - Jamaican Jerk Chicken\, Grilled Pineapple\, and Black Bean Salsa\, Coconut Rice
DESCRIPTION:Meals Made Easy – Jamaican Jerk Chicken\, Grilled Pineapple\, and Black Bean Salsa\, Coconut Rice (Gluten-Free\, Dairy-Free\, Soy-Free)\nSimply sign up\, pay $20\, and pick up your meal. Each meal feeds a family of four and features all-natural ingredients from Wozupi Tribal Gardens.
URL:https://www.wellness.dev.smscmarketing.org/event/meals-made-easy-jamaican-jerk-chicken-grilled-pineapple-and-black-bean-salsa-coconut-rice-cc/
LOCATION:Community Center (Tipi)\, 2330 Sioux Trail NW\, Prior Lake\, MN\, 55372\, United States
CATEGORIES:Meals Made Easy
GEO:44.7362437;-93.4730448
X-APPLE-STRUCTURED-LOCATION;VALUE=URI;X-ADDRESS=Community Center (Tipi) 2330 Sioux Trail NW Prior Lake MN 55372 United States;X-APPLE-RADIUS=500;X-TITLE=2330 Sioux Trail NW:geo:-93.4730448,44.7362437
END:VEVENT
BEGIN:VEVENT
DTSTART;TZID=America/Chicago:20231011T070000
DTEND;TZID=America/Chicago:20231011T150000
DTSTAMP:20260421T051647
CREATED:20230929T130004Z
LAST-MODIFIED:20230929T130034Z
UID:10002168-1697007600-1697036400@www.wellness.dev.smscmarketing.org
SUMMARY:Flu Shots and Covid-19 Vaccines
DESCRIPTION:Get ahead of sick season this year! Tribal Public Health is here to help with a series of free flue and COVID-19 vaccine clinics during October for all SMSC employees and team members. \nMake sure to bring your SMSC badge.
URL:https://www.wellness.dev.smscmarketing.org/event/flu-shots-and-covid-19-vaccines-10-11-2023/
LOCATION:Mystic Quiet Space
CATEGORIES:Teal
END:VEVENT
BEGIN:VEVENT
DTSTART;TZID=America/Chicago:20231005T163000
DTEND;TZID=America/Chicago:20231005T171500
DTSTAMP:20260421T051647
CREATED:20230911T140737Z
LAST-MODIFIED:20230911T140813Z
UID:10002149-1696523400-1696526100@www.wellness.dev.smscmarketing.org
SUMMARY:Meals Made Easy - Chimichurri Steak\, Roasted Corn\, and Poblano Chile Salad
DESCRIPTION:Meals Made Easy – Chimichurri Steak\, Roasted Corn\, and Poblano Chile Salad (Gluten-Free\, Dairy-Free)\nSimply sign up\, pay $20\, and pick up your meal. Each meal feeds a family of four and features all-natural ingredients from Wozupi Tribal Gardens.
URL:https://www.wellness.dev.smscmarketing.org/event/meals-made-easy-chimichurri-steak-roasted-corn-and-poblano-chile-salad-pw/
LOCATION:Playworks Front Desk\, 2200 Trail of Dreams\, Prior Lake\, MN\, 55372\, United States
CATEGORIES:Meals Made Easy
GEO:44.725166;-93.477036
X-APPLE-STRUCTURED-LOCATION;VALUE=URI;X-ADDRESS=Playworks Front Desk 2200 Trail of Dreams Prior Lake MN 55372 United States;X-APPLE-RADIUS=500;X-TITLE=2200 Trail of Dreams:geo:-93.477036,44.725166
END:VEVENT
BEGIN:VEVENT
DTSTART;TZID=America/Chicago:20231005T163000
DTEND;TZID=America/Chicago:20231005T171500
DTSTAMP:20260421T051647
CREATED:20230911T140733Z
LAST-MODIFIED:20230911T140733Z
UID:10002147-1696523400-1696526100@www.wellness.dev.smscmarketing.org
SUMMARY:Meals Made Easy - Chimichurri Steak\, Roasted Corn\, and Poblano Chile Salad
DESCRIPTION:Meals Made Easy – Chimichurri Steak\, Roasted Corn\, and Poblano Chile Salad (Gluten-Free\, Dairy-Free)\nSimply sign up\, pay $20\, and pick up your meal. Each meal feeds a family of four and features all-natural ingredients from Wozupi Tribal Gardens.
URL:https://www.wellness.dev.smscmarketing.org/event/meals-made-easy-chimichurri-steak-roasted-corn-and-poblano-chile-salad-cc/
LOCATION:Community Center (Tipi)\, 2330 Sioux Trail NW\, Prior Lake\, MN\, 55372\, United States
CATEGORIES:Meals Made Easy
GEO:44.7362437;-93.4730448
X-APPLE-STRUCTURED-LOCATION;VALUE=URI;X-ADDRESS=Community Center (Tipi) 2330 Sioux Trail NW Prior Lake MN 55372 United States;X-APPLE-RADIUS=500;X-TITLE=2330 Sioux Trail NW:geo:-93.4730448,44.7362437
END:VEVENT
BEGIN:VEVENT
DTSTART;TZID=America/Chicago:20231005T120000
DTEND;TZID=America/Chicago:20231005T170000
DTSTAMP:20260421T051647
CREATED:20230929T125934Z
LAST-MODIFIED:20230929T125959Z
UID:10002166-1696507200-1696525200@www.wellness.dev.smscmarketing.org
SUMMARY:Flu Shots and Covid-19 Vaccines
DESCRIPTION:Get ahead of sick season this year! Tribal Public Health is here to help with a series of free flue and COVID-19 vaccine clinics during October for all SMSC employees and team members. \nMake sure to bring your SMSC badge.
URL:https://www.wellness.dev.smscmarketing.org/event/flu-shots-and-covid-19-vaccines-10-5-2023/
LOCATION:Mystic Quiet Space
CATEGORIES:Teal
END:VEVENT
END:VCALENDAR