BEGIN:VCALENDAR
VERSION:2.0
PRODID:-//SMSC Health and Wellness | Wellness Made Easy - ECPv6.15.13//NONSGML v1.0//EN
CALSCALE:GREGORIAN
METHOD:PUBLISH
X-ORIGINAL-URL:https://www.wellness.dev.smscmarketing.org
X-WR-CALDESC:Events for SMSC Health and Wellness | Wellness Made Easy
REFRESH-INTERVAL;VALUE=DURATION:PT1H
X-Robots-Tag:noindex
X-PUBLISHED-TTL:PT1H
BEGIN:VTIMEZONE
TZID:America/Chicago
BEGIN:DAYLIGHT
TZOFFSETFROM:-0600
TZOFFSETTO:-0500
TZNAME:CDT
DTSTART:20220313T080000
END:DAYLIGHT
BEGIN:STANDARD
TZOFFSETFROM:-0500
TZOFFSETTO:-0600
TZNAME:CST
DTSTART:20221106T070000
END:STANDARD
BEGIN:DAYLIGHT
TZOFFSETFROM:-0600
TZOFFSETTO:-0500
TZNAME:CDT
DTSTART:20230312T080000
END:DAYLIGHT
BEGIN:STANDARD
TZOFFSETFROM:-0500
TZOFFSETTO:-0600
TZNAME:CST
DTSTART:20231105T070000
END:STANDARD
BEGIN:DAYLIGHT
TZOFFSETFROM:-0600
TZOFFSETTO:-0500
TZNAME:CDT
DTSTART:20240310T080000
END:DAYLIGHT
BEGIN:STANDARD
TZOFFSETFROM:-0500
TZOFFSETTO:-0600
TZNAME:CST
DTSTART:20241103T070000
END:STANDARD
END:VTIMEZONE
BEGIN:VEVENT
DTSTART;TZID=America/Chicago:20231004T120000
DTEND;TZID=America/Chicago:20231004T170000
DTSTAMP:20260421T100150
CREATED:20230929T125857Z
LAST-MODIFIED:20230929T125929Z
UID:10002164-1696420800-1696438800@www.wellness.dev.smscmarketing.org
SUMMARY:Flu Shots and Covid-19 Vaccines
DESCRIPTION:Get ahead of sick season this year! Tribal Public Health is here to help with a series of free flue and COVID-19 vaccine clinics during October for all SMSC employees and team members. \nMake sure to bring your SMSC badge.
URL:https://www.wellness.dev.smscmarketing.org/event/flu-shots-and-covid-19-vaccines-10-4-2023/
LOCATION:Mystic Quiet Space
CATEGORIES:Teal
END:VEVENT
BEGIN:VEVENT
DTSTART;TZID=America/Chicago:20231003T090000
DTEND;TZID=America/Chicago:20231003T163000
DTSTAMP:20260421T100150
CREATED:20230929T125853Z
LAST-MODIFIED:20230929T125853Z
UID:10002163-1696323600-1696350600@www.wellness.dev.smscmarketing.org
SUMMARY:Flu Shots and Covid-19 Vaccines
DESCRIPTION:Get ahead of sick season this year! Tribal Public Health is here to help with a series of free flue and COVID-19 vaccine clinics during October for all SMSC employees and team members. \nMake sure to bring your SMSC badge.
URL:https://www.wellness.dev.smscmarketing.org/event/flu-shots-and-covid-19-vaccines/
LOCATION:Mystic Quiet Space
CATEGORIES:Teal
END:VEVENT
BEGIN:VEVENT
DTSTART;TZID=America/Chicago:20231002T114500
DTEND;TZID=America/Chicago:20231002T123000
DTSTAMP:20260421T100150
CREATED:20230911T135942Z
LAST-MODIFIED:20230911T140022Z
UID:10002137-1696247100-1696249800@www.wellness.dev.smscmarketing.org
SUMMARY:Crock Pot Mondays - Bison Stew
DESCRIPTION:Crock Pot Mondays – Bison Stew\nMeal kits will be preassembled. No need to bring your slow cooker. Registration fee is $15. Please RSVP by the Monday prior to the event.
URL:https://www.wellness.dev.smscmarketing.org/event/crock-pot-mondays-bison-stew-pw/
LOCATION:Playworks Front Desk\, 2200 Trail of Dreams\, Prior Lake\, MN\, 55372\, United States
CATEGORIES:Crock Pot Mondays
GEO:44.725166;-93.477036
X-APPLE-STRUCTURED-LOCATION;VALUE=URI;X-ADDRESS=Playworks Front Desk 2200 Trail of Dreams Prior Lake MN 55372 United States;X-APPLE-RADIUS=500;X-TITLE=2200 Trail of Dreams:geo:-93.477036,44.725166
END:VEVENT
BEGIN:VEVENT
DTSTART;TZID=America/Chicago:20231002T114500
DTEND;TZID=America/Chicago:20231002T123000
DTSTAMP:20260421T100150
CREATED:20230911T135938Z
LAST-MODIFIED:20230911T135938Z
UID:10002135-1696247100-1696249800@www.wellness.dev.smscmarketing.org
SUMMARY:Crock Pot Mondays - Bison Stew
DESCRIPTION:Crock Pot Mondays – Bison Stew\nMeal kits will be preassembled. No need to bring your slow cooker. Registration fee is $15. Please RSVP by the Monday prior to the event.
URL:https://www.wellness.dev.smscmarketing.org/event/crock-pot-mondays-bison-stew-cc/
LOCATION:Community Center (Tipi)\, 2330 Sioux Trail NW\, Prior Lake\, MN\, 55372\, United States
CATEGORIES:Crock Pot Mondays
GEO:44.7362437;-93.4730448
X-APPLE-STRUCTURED-LOCATION;VALUE=URI;X-ADDRESS=Community Center (Tipi) 2330 Sioux Trail NW Prior Lake MN 55372 United States;X-APPLE-RADIUS=500;X-TITLE=2330 Sioux Trail NW:geo:-93.4730448,44.7362437
END:VEVENT
BEGIN:VEVENT
DTSTART;TZID=America/Chicago:20230928T163000
DTEND;TZID=America/Chicago:20230928T171500
DTSTAMP:20260421T100150
CREATED:20230815T143822Z
LAST-MODIFIED:20230815T143904Z
UID:10002350-1695918600-1695921300@www.wellness.dev.smscmarketing.org
SUMMARY:Meals Made Easy - Three Sisters Smoked Salmon Salad
DESCRIPTION:Meals Made Easy – Three Sisters Smoked Salmon Salad (Gluten-Free\, Dairy-Free)\nSimply sign up\, pay $20\, and pick up your meal. Each meal feeds a family of four and features all-natural ingredients from Wozupi Tribal Gardens.
URL:https://www.wellness.dev.smscmarketing.org/event/meals-made-easy-three-sisters-smoked-salmon-salad-pw/
LOCATION:Playworks Front Desk\, 2200 Trail of Dreams\, Prior Lake\, MN\, 55372\, United States
CATEGORIES:Meals Made Easy
GEO:44.725166;-93.477036
X-APPLE-STRUCTURED-LOCATION;VALUE=URI;X-ADDRESS=Playworks Front Desk 2200 Trail of Dreams Prior Lake MN 55372 United States;X-APPLE-RADIUS=500;X-TITLE=2200 Trail of Dreams:geo:-93.477036,44.725166
END:VEVENT
BEGIN:VEVENT
DTSTART;TZID=America/Chicago:20230928T163000
DTEND;TZID=America/Chicago:20230928T171500
DTSTAMP:20260421T100150
CREATED:20230815T143801Z
LAST-MODIFIED:20230815T143820Z
UID:10002349-1695918600-1695921300@www.wellness.dev.smscmarketing.org
SUMMARY:Meals Made Easy - Three Sisters Smoked Salmon Salad
DESCRIPTION:Meals Made Easy – Three Sisters Smoked Salmon Salad (Gluten-Free\, Dairy-Free)\nSimply sign up\, pay $20\, and pick up your meal. Each meal feeds a family of four and features all-natural ingredients from Wozupi Tribal Gardens.
URL:https://www.wellness.dev.smscmarketing.org/event/meals-made-easy-three-sisters-smoked-salmon-salad-cc/
LOCATION:Community Center (Tipi)\, 2330 Sioux Trail NW\, Prior Lake\, MN\, 55372\, United States
CATEGORIES:Meals Made Easy
GEO:44.7362437;-93.4730448
X-APPLE-STRUCTURED-LOCATION;VALUE=URI;X-ADDRESS=Community Center (Tipi) 2330 Sioux Trail NW Prior Lake MN 55372 United States;X-APPLE-RADIUS=500;X-TITLE=2330 Sioux Trail NW:geo:-93.4730448,44.7362437
END:VEVENT
BEGIN:VEVENT
DTSTART;TZID=America/Chicago:20230925T114500
DTEND;TZID=America/Chicago:20230925T123000
DTSTAMP:20260421T100150
CREATED:20230815T144324Z
LAST-MODIFIED:20230815T144405Z
UID:10002354-1695642300-1695645000@www.wellness.dev.smscmarketing.org
SUMMARY:Crock Pot Mondays - Orange Chicken
DESCRIPTION:Crock Pot Mondays – Orange Chicken\nMeal kits will be preassembled. No need to bring your slow cooker. Registration fee is $15. Please RSVP by the Monday prior to the event.
URL:https://www.wellness.dev.smscmarketing.org/event/crock-pot-mondays-orange-chicken-pw-2/
LOCATION:Playworks Front Desk\, 2200 Trail of Dreams\, Prior Lake\, MN\, 55372\, United States
CATEGORIES:Crock Pot Mondays
GEO:44.725166;-93.477036
X-APPLE-STRUCTURED-LOCATION;VALUE=URI;X-ADDRESS=Playworks Front Desk 2200 Trail of Dreams Prior Lake MN 55372 United States;X-APPLE-RADIUS=500;X-TITLE=2200 Trail of Dreams:geo:-93.477036,44.725166
END:VEVENT
BEGIN:VEVENT
DTSTART;TZID=America/Chicago:20230925T114500
DTEND;TZID=America/Chicago:20230925T123000
DTSTAMP:20260421T100150
CREATED:20230815T144317Z
LAST-MODIFIED:20230815T144317Z
UID:10002353-1695642300-1695645000@www.wellness.dev.smscmarketing.org
SUMMARY:Crock Pot Mondays - Orange Chicken
DESCRIPTION:Crock Pot Mondays – Orange Chicken\nMeal kits will be preassembled. No need to bring your slow cooker. Registration fee is $15. Please RSVP by the Monday prior to the event.
URL:https://www.wellness.dev.smscmarketing.org/event/crock-pot-mondays-orange-chicken/
LOCATION:Community Center (Tipi)\, 2330 Sioux Trail NW\, Prior Lake\, MN\, 55372\, United States
CATEGORIES:Crock Pot Mondays
GEO:44.7362437;-93.4730448
X-APPLE-STRUCTURED-LOCATION;VALUE=URI;X-ADDRESS=Community Center (Tipi) 2330 Sioux Trail NW Prior Lake MN 55372 United States;X-APPLE-RADIUS=500;X-TITLE=2330 Sioux Trail NW:geo:-93.4730448,44.7362437
END:VEVENT
BEGIN:VEVENT
DTSTART;TZID=America/Chicago:20230921T163000
DTEND;TZID=America/Chicago:20230921T171500
DTSTAMP:20260421T100150
CREATED:20230815T143549Z
LAST-MODIFIED:20230815T143626Z
UID:10002348-1695313800-1695316500@www.wellness.dev.smscmarketing.org
SUMMARY:Meals Made Easy - Spinach Pie\, Falafel\, Tabbouleh
DESCRIPTION:Meals Made Easy – Spinach Pie\, Falafel\, Tabbouleh (Vegetarian)\nSimply sign up\, pay $20\, and pick up your meal. Each meal feeds a family of four and features all-natural ingredients from Wozupi Tribal Gardens.
URL:https://www.wellness.dev.smscmarketing.org/event/meals-made-easy-spinach-pie-falafel-tabbouleh-pw/
LOCATION:Playworks Front Desk\, 2200 Trail of Dreams\, Prior Lake\, MN\, 55372\, United States
CATEGORIES:Meals Made Easy
GEO:44.725166;-93.477036
X-APPLE-STRUCTURED-LOCATION;VALUE=URI;X-ADDRESS=Playworks Front Desk 2200 Trail of Dreams Prior Lake MN 55372 United States;X-APPLE-RADIUS=500;X-TITLE=2200 Trail of Dreams:geo:-93.477036,44.725166
END:VEVENT
BEGIN:VEVENT
DTSTART;TZID=America/Chicago:20230921T163000
DTEND;TZID=America/Chicago:20230921T171500
DTSTAMP:20260421T100150
CREATED:20230815T143508Z
LAST-MODIFIED:20230815T143508Z
UID:10002347-1695313800-1695316500@www.wellness.dev.smscmarketing.org
SUMMARY:Meals Made Easy - Spinach Pie\, Falafel\, Tabbouleh
DESCRIPTION:Meals Made Easy – Spinach Pie\, Falafel\, Tabbouleh (Vegetarian)\nSimply sign up\, pay $20\, and pick up your meal. Each meal feeds a family of four and features all-natural ingredients from Wozupi Tribal Gardens.
URL:https://www.wellness.dev.smscmarketing.org/event/meals-made-easy-spinach-pie-falafel-tabbouleh-cc/
LOCATION:Community Center (Tipi)\, 2330 Sioux Trail NW\, Prior Lake\, MN\, 55372\, United States
CATEGORIES:Meals Made Easy
GEO:44.7362437;-93.4730448
X-APPLE-STRUCTURED-LOCATION;VALUE=URI;X-ADDRESS=Community Center (Tipi) 2330 Sioux Trail NW Prior Lake MN 55372 United States;X-APPLE-RADIUS=500;X-TITLE=2330 Sioux Trail NW:geo:-93.4730448,44.7362437
END:VEVENT
BEGIN:VEVENT
DTSTART;TZID=America/Chicago:20230918T114500
DTEND;TZID=America/Chicago:20230918T123000
DTSTAMP:20260421T100150
CREATED:20230815T144059Z
LAST-MODIFIED:20230815T144451Z
UID:10002352-1695037500-1695040200@www.wellness.dev.smscmarketing.org
SUMMARY:Crock Pot Mondays - Turkey and Apple Chili
DESCRIPTION:Crock Pot Mondays – Turkey and Apple Chili\nMeal kits will be preassembled. No need to bring your slow cooker. Registration fee is $15. Please RSVP by the Monday prior to the event.
URL:https://www.wellness.dev.smscmarketing.org/event/crock-pot-mondays-turkey-and-apple-chili-pw/
LOCATION:Playworks Front Desk\, 2200 Trail of Dreams\, Prior Lake\, MN\, 55372\, United States
CATEGORIES:Crock Pot Mondays
GEO:44.725166;-93.477036
X-APPLE-STRUCTURED-LOCATION;VALUE=URI;X-ADDRESS=Playworks Front Desk 2200 Trail of Dreams Prior Lake MN 55372 United States;X-APPLE-RADIUS=500;X-TITLE=2200 Trail of Dreams:geo:-93.477036,44.725166
END:VEVENT
BEGIN:VEVENT
DTSTART;TZID=America/Chicago:20230918T114500
DTEND;TZID=America/Chicago:20230918T123000
DTSTAMP:20260421T100150
CREATED:20230815T144055Z
LAST-MODIFIED:20230815T144504Z
UID:10002351-1695037500-1695040200@www.wellness.dev.smscmarketing.org
SUMMARY:Crock Pot Mondays - Turkey and Apple Chili
DESCRIPTION:Crock Pot Mondays – Turkey and Apple Chili\nMeal kits will be preassembled. No need to bring your slow cooker. Registration fee is $15. Please RSVP by the Monday prior to the event.
URL:https://www.wellness.dev.smscmarketing.org/event/crock-pot-mondays-turkey-and-apple-chili/
LOCATION:Community Center (Tipi)\, 2330 Sioux Trail NW\, Prior Lake\, MN\, 55372\, United States
CATEGORIES:Crock Pot Mondays
GEO:44.7362437;-93.4730448
X-APPLE-STRUCTURED-LOCATION;VALUE=URI;X-ADDRESS=Community Center (Tipi) 2330 Sioux Trail NW Prior Lake MN 55372 United States;X-APPLE-RADIUS=500;X-TITLE=2330 Sioux Trail NW:geo:-93.4730448,44.7362437
END:VEVENT
BEGIN:VEVENT
DTSTART;TZID=America/Chicago:20230914T163000
DTEND;TZID=America/Chicago:20230914T171500
DTSTAMP:20260421T100150
CREATED:20230815T143145Z
LAST-MODIFIED:20230815T143258Z
UID:10002346-1694709000-1694711700@www.wellness.dev.smscmarketing.org
SUMMARY:Meals Made Easy - Venison Meatballs with Wild Mushroom Demi-Glace\, Wild Rice\, Roasted Vegetables
DESCRIPTION:Meals Made Easy – Venison Meatballs with Wild Mushroom Demi-Glace\, Wild Rice\, Roasted Vegetables\nSimply sign up\, pay $20\, and pick up your meal. Each meal feeds a family of four and features all-natural ingredients from Wozupi Tribal Gardens.
URL:https://www.wellness.dev.smscmarketing.org/event/meals-made-easy-venison-meatballs-with-wild-mushroom-demi-glace-wild-rice-roasted-vegetables-pw/
LOCATION:Playworks Front Desk\, 2200 Trail of Dreams\, Prior Lake\, MN\, 55372\, United States
CATEGORIES:Meals Made Easy
GEO:44.725166;-93.477036
X-APPLE-STRUCTURED-LOCATION;VALUE=URI;X-ADDRESS=Playworks Front Desk 2200 Trail of Dreams Prior Lake MN 55372 United States;X-APPLE-RADIUS=500;X-TITLE=2200 Trail of Dreams:geo:-93.477036,44.725166
END:VEVENT
BEGIN:VEVENT
DTSTART;TZID=America/Chicago:20230914T163000
DTEND;TZID=America/Chicago:20230914T171500
DTSTAMP:20260421T100150
CREATED:20230815T143127Z
LAST-MODIFIED:20230815T143141Z
UID:10002345-1694709000-1694711700@www.wellness.dev.smscmarketing.org
SUMMARY:Meals Made Easy - Venison Meatballs with Wild Mushroom Demi-Glace\, Wild Rice\, Roasted Vegetables
DESCRIPTION:Meals Made Easy – Venison Meatballs with Wild Mushroom Demi-Glace\, Wild Rice\, Roasted Vegetables\nSimply sign up\, pay $20\, and pick up your meal. Each meal feeds a family of four and features all-natural ingredients from Wozupi Tribal Gardens.
URL:https://www.wellness.dev.smscmarketing.org/event/meals-made-easy-venison-meatballs-with-wild-mushroom-demi-glace-wild-rice-roasted-vegetables/
LOCATION:Community Center (Tipi)\, 2330 Sioux Trail NW\, Prior Lake\, MN\, 55372\, United States
CATEGORIES:Meals Made Easy
GEO:44.7362437;-93.4730448
X-APPLE-STRUCTURED-LOCATION;VALUE=URI;X-ADDRESS=Community Center (Tipi) 2330 Sioux Trail NW Prior Lake MN 55372 United States;X-APPLE-RADIUS=500;X-TITLE=2330 Sioux Trail NW:geo:-93.4730448,44.7362437
END:VEVENT
BEGIN:VEVENT
DTSTART;TZID=America/Chicago:20230907T163000
DTEND;TZID=America/Chicago:20230907T171500
DTSTAMP:20260421T100150
CREATED:20230815T135848Z
LAST-MODIFIED:20230815T144524Z
UID:10002344-1694104200-1694106900@www.wellness.dev.smscmarketing.org
SUMMARY:Meals Made Easy - Shrimp Poke Bowl
DESCRIPTION:Meals Made Easy – Shrimp Poke Bowl (Gluten-Free\, Dairy-Free)\nSimply sign up\, pay $20\, and pick up your meal. Each meal feeds a family of four and features all-natural ingredients from Wozupi Tribal Gardens.
URL:https://www.wellness.dev.smscmarketing.org/event/meals-made-easy-shrimp-poke-bowl-2-pw/
LOCATION:Playworks Front Desk\, 2200 Trail of Dreams\, Prior Lake\, MN\, 55372\, United States
CATEGORIES:Meals Made Easy
GEO:44.725166;-93.477036
X-APPLE-STRUCTURED-LOCATION;VALUE=URI;X-ADDRESS=Playworks Front Desk 2200 Trail of Dreams Prior Lake MN 55372 United States;X-APPLE-RADIUS=500;X-TITLE=2200 Trail of Dreams:geo:-93.477036,44.725166
END:VEVENT
BEGIN:VEVENT
DTSTART;TZID=America/Chicago:20230907T163000
DTEND;TZID=America/Chicago:20230907T171500
DTSTAMP:20260421T100150
CREATED:20230815T135842Z
LAST-MODIFIED:20230815T144529Z
UID:10002343-1694104200-1694106900@www.wellness.dev.smscmarketing.org
SUMMARY:Meals Made Easy - Shrimp Poke Bowl
DESCRIPTION:Meals Made Easy – Shrimp Poke Bowl (Gluten-Free\, Dairy-Free)\nSimply sign up\, pay $20\, and pick up your meal. Each meal feeds a family of four and features all-natural ingredients from Wozupi Tribal Gardens.
URL:https://www.wellness.dev.smscmarketing.org/event/meals-made-easy-shrimp-poke-bowl-2/
LOCATION:Community Center (Tipi)\, 2330 Sioux Trail NW\, Prior Lake\, MN\, 55372\, United States
CATEGORIES:Meals Made Easy
GEO:44.7362437;-93.4730448
X-APPLE-STRUCTURED-LOCATION;VALUE=URI;X-ADDRESS=Community Center (Tipi) 2330 Sioux Trail NW Prior Lake MN 55372 United States;X-APPLE-RADIUS=500;X-TITLE=2330 Sioux Trail NW:geo:-93.4730448,44.7362437
END:VEVENT
BEGIN:VEVENT
DTSTART;TZID=America/Chicago:20230831T110000
DTEND;TZID=America/Chicago:20230831T130000
DTSTAMP:20260421T100150
CREATED:20230620T151934Z
LAST-MODIFIED:20230620T152004Z
UID:10002331-1693479600-1693486800@www.wellness.dev.smscmarketing.org
SUMMARY:Free Pop-Up Clinic - Hearing Screening
DESCRIPTION:Tribal Public Health nurses will be offering hearing screenings.
URL:https://www.wellness.dev.smscmarketing.org/event/free-pop-up-clinic-hearing-screening-2/
LOCATION:Mystic Quiet Space
CATEGORIES:Teal
END:VEVENT
BEGIN:VEVENT
DTSTART;TZID=America/Chicago:20230829T110000
DTEND;TZID=America/Chicago:20230829T130000
DTSTAMP:20260421T100150
CREATED:20230620T151857Z
LAST-MODIFIED:20230620T151857Z
UID:10002330-1693306800-1693314000@www.wellness.dev.smscmarketing.org
SUMMARY:Free Pop-Up Clinic - Blood Pressure Check Copy
DESCRIPTION:Tribal Public Health nurses will be offering blood pressure checks.
URL:https://www.wellness.dev.smscmarketing.org/event/free-pop-up-clinic-blood-pressure-check-5-copy/
LOCATION:Mystic Quiet Space
CATEGORIES:Teal
END:VEVENT
BEGIN:VEVENT
DTSTART;TZID=America/Chicago:20230825T140000
DTEND;TZID=America/Chicago:20230825T160000
DTSTAMP:20260421T100150
CREATED:20230620T151746Z
LAST-MODIFIED:20230620T151813Z
UID:10002328-1692972000-1692979200@www.wellness.dev.smscmarketing.org
SUMMARY:Free Pop-Up Clinic - Blood Pressure Check
DESCRIPTION:Tribal Public Health nurses will be offering blood pressure checks.
URL:https://www.wellness.dev.smscmarketing.org/event/free-pop-up-clinic-blood-pressure-check-4/
LOCATION:Mystic Quiet Space
CATEGORIES:Teal
END:VEVENT
BEGIN:VEVENT
DTSTART;TZID=America/Chicago:20230822T150000
DTEND;TZID=America/Chicago:20230822T170000
DTSTAMP:20260421T100150
CREATED:20230620T151816Z
LAST-MODIFIED:20230620T151931Z
UID:10002329-1692716400-1692723600@www.wellness.dev.smscmarketing.org
SUMMARY:Free Pop-Up Clinic - Hearing Screening
DESCRIPTION:Tribal Public Health nurses will be offering hearing screenings.
URL:https://www.wellness.dev.smscmarketing.org/event/free-pop-up-clinic-hearing-screening/
LOCATION:Mystic Quiet Space
CATEGORIES:Teal
END:VEVENT
BEGIN:VEVENT
DTSTART;TZID=America/Chicago:20230816T160000
DTEND;TZID=America/Chicago:20230816T180000
DTSTAMP:20260421T100150
CREATED:20230620T151658Z
LAST-MODIFIED:20230620T151740Z
UID:10002327-1692201600-1692208800@www.wellness.dev.smscmarketing.org
SUMMARY:Free Pop-Up Clinic - Blood Pressure Check
DESCRIPTION:Tribal Public Health nurses will be offering blood pressure checks.
URL:https://www.wellness.dev.smscmarketing.org/event/free-pop-up-clinic-blood-pressure-check-3/
LOCATION:Mystic Quiet Space
CATEGORIES:Teal
END:VEVENT
BEGIN:VEVENT
DTSTART;TZID=America/Chicago:20230814T110000
DTEND;TZID=America/Chicago:20230814T130000
DTSTAMP:20260421T100150
CREATED:20230620T151624Z
LAST-MODIFIED:20230620T151711Z
UID:10002326-1692010800-1692018000@www.wellness.dev.smscmarketing.org
SUMMARY:Free Pop-Up Clinic - Blood Pressure Check
DESCRIPTION:Tribal Public Health nurses will be offering blood pressure checks.
URL:https://www.wellness.dev.smscmarketing.org/event/free-pop-up-clinic-blood-pressure-check-2/
LOCATION:Mystic Quiet Space
CATEGORIES:Teal
END:VEVENT
BEGIN:VEVENT
DTSTART;TZID=America/Chicago:20230810T070000
DTEND;TZID=America/Chicago:20230810T090000
DTSTAMP:20260421T100150
CREATED:20230620T151620Z
LAST-MODIFIED:20230620T151620Z
UID:10002325-1691650800-1691658000@www.wellness.dev.smscmarketing.org
SUMMARY:Free Pop-Up Clinic - Blood Pressure Check
DESCRIPTION:Tribal Public Health nurses will be offering blood pressure checks.
URL:https://www.wellness.dev.smscmarketing.org/event/free-pop-up-clinic-blood-pressure-check/
LOCATION:Mystic Quiet Space
CATEGORIES:Teal
END:VEVENT
BEGIN:VEVENT
DTSTART;TZID=America/Chicago:20230803T090000
DTEND;TZID=America/Chicago:20230803T170000
DTSTAMP:20260421T100150
CREATED:20230712T205508Z
LAST-MODIFIED:20230712T205508Z
UID:10002342-1691053200-1691082000@www.wellness.dev.smscmarketing.org
SUMMARY:Summer Blood Drive 2023
DESCRIPTION:DONATE BLOOD\, SAVE LIVES\n38% of the U.S. population is eligible to give blood. Of that 38%\, only 7% do. \nSign up today to make a lifesaving difference! \nSign up at mbc.org/searchdrives. \nGeneral Public Sponsor Code 1637
URL:https://www.wellness.dev.smscmarketing.org/event/summer-blood-drive-2023/
LOCATION:Dakotah! Sport and Fitness
CATEGORIES:Blood Drive
END:VEVENT
BEGIN:VEVENT
DTSTART;TZID=America/Chicago:20230802T110000
DTEND;TZID=America/Chicago:20230802T130000
DTSTAMP:20260421T100150
CREATED:20230620T155624Z
LAST-MODIFIED:20230620T155649Z
UID:10002341-1690974000-1690981200@www.wellness.dev.smscmarketing.org
SUMMARY:Mobile Hearing Screenings
DESCRIPTION:Tribal Public Health’s mobile hearing booth will be parked outside the Mystic Lake Team Member Entrance to provide hearing screenings for those who are interested. Screenings take about 15 minutes. \nCall Tribal Public Health at 952.496.6199 to schedule an appointment. Walk-ins are also welcome.
URL:https://www.wellness.dev.smscmarketing.org/event/mobile-hearing-screenings-6/
LOCATION:Mystic Lake Team Member Entrance
CATEGORIES:Teal
END:VEVENT
BEGIN:VEVENT
DTSTART;TZID=America/Chicago:20230801T160000
DTEND;TZID=America/Chicago:20230801T190000
DTSTAMP:20260421T100150
CREATED:20230620T155554Z
LAST-MODIFIED:20230620T155619Z
UID:10002340-1690905600-1690916400@www.wellness.dev.smscmarketing.org
SUMMARY:Mobile Hearing Screenings
DESCRIPTION:Tribal Public Health’s mobile hearing booth will be parked outside the Mystic Lake Team Member Entrance to provide hearing screenings for those who are interested. Screenings take about 15 minutes. \nCall Tribal Public Health at 952.496.6199 to schedule an appointment. Walk-ins are also welcome.
URL:https://www.wellness.dev.smscmarketing.org/event/mobile-hearing-screenings-5/
LOCATION:Mystic Lake Team Member Entrance
CATEGORIES:Teal
END:VEVENT
BEGIN:VEVENT
DTSTART;TZID=America/Chicago:20230724T183000
DTEND;TZID=America/Chicago:20230724T193000
DTSTAMP:20260421T100150
CREATED:20230620T151432Z
LAST-MODIFIED:20230620T151502Z
UID:10002324-1690223400-1690227000@www.wellness.dev.smscmarketing.org
SUMMARY:Free Pop-Up Clinic
DESCRIPTION:SMSC Wellness staff will lead you through a basic balance and flexibility assessment.
URL:https://www.wellness.dev.smscmarketing.org/event/free-pop-up-clinic-4/
LOCATION:Mystic Quiet Space
CATEGORIES:Teal
END:VEVENT
BEGIN:VEVENT
DTSTART;TZID=America/Chicago:20230719T110000
DTEND;TZID=America/Chicago:20230719T123000
DTSTAMP:20260421T100150
CREATED:20230620T151333Z
LAST-MODIFIED:20230620T151429Z
UID:10002323-1689764400-1689769800@www.wellness.dev.smscmarketing.org
SUMMARY:Free Pop-Up Clinic
DESCRIPTION:SMSC Wellness staff will lead you through a basic balance and flexibility assessment. \nThis event will also include a Wondr Health webinar – “Turn Self-Criticism into Self-Compassion”.
URL:https://www.wellness.dev.smscmarketing.org/event/free-pop-up-clinic-3/
LOCATION:Mystic Quiet Space
CATEGORIES:Teal
END:VEVENT
BEGIN:VEVENT
DTSTART;TZID=America/Chicago:20230719T100000
DTEND;TZID=America/Chicago:20230719T170000
DTSTAMP:20260421T100150
CREATED:20230201T194244Z
LAST-MODIFIED:20230201T194409Z
UID:10002180-1689760800-1689786000@www.wellness.dev.smscmarketing.org
SUMMARY:Mobile Mammogram Clinic
DESCRIPTION:Get Your Annual Mammogram\nThe best protection from breast cancer is early detection.\nOn-site mobile mammograms are quick\, easy\, and convenient! FREE for women enrolled in an SMSC medical insurance plan.
URL:https://www.wellness.dev.smscmarketing.org/event/mobile-mammogram-clinic-7-19-23/
LOCATION:Mystic Team Member Entrance (Mobile Mammogram Vehicle)
END:VEVENT
BEGIN:VEVENT
DTSTART;TZID=America/Chicago:20230717T114500
DTEND;TZID=America/Chicago:20230717T123000
DTSTAMP:20260421T100150
CREATED:20230620T154204Z
LAST-MODIFIED:20230620T154247Z
UID:10002335-1689594300-1689597000@www.wellness.dev.smscmarketing.org
SUMMARY:Crock Pot Mondays - Summer Harvest Ratatouille
DESCRIPTION:Crock Pot Mondays – Summer Harvest Ratatouille (Vegan\, Gluten-Free)\nMeal kits will be preassembled. No need to bring your slow cooker. Registration fee is $15. Please RSVP by the Monday prior to the event.
URL:https://www.wellness.dev.smscmarketing.org/event/crock-pot-mondays-summer-harvest-ratatouille-3-pw/
LOCATION:Playworks Front Desk\, 2200 Trail of Dreams\, Prior Lake\, MN\, 55372\, United States
CATEGORIES:Crock Pot Mondays
GEO:44.725166;-93.477036
X-APPLE-STRUCTURED-LOCATION;VALUE=URI;X-ADDRESS=Playworks Front Desk 2200 Trail of Dreams Prior Lake MN 55372 United States;X-APPLE-RADIUS=500;X-TITLE=2200 Trail of Dreams:geo:-93.477036,44.725166
END:VEVENT
END:VCALENDAR